BEGIN:VCALENDAR
VERSION:2.0
PRODID:-//North Carolina Manufacturing Extension Partnership - ECPv6.15.18//NONSGML v1.0//EN
CALSCALE:GREGORIAN
METHOD:PUBLISH
X-ORIGINAL-URL:https://ncmep.org
X-WR-CALDESC:Events for North Carolina Manufacturing Extension Partnership
REFRESH-INTERVAL;VALUE=DURATION:PT1H
X-Robots-Tag:noindex
X-PUBLISHED-TTL:PT1H
BEGIN:VTIMEZONE
TZID:America/New_York
BEGIN:DAYLIGHT
TZOFFSETFROM:-0500
TZOFFSETTO:-0400
TZNAME:EDT
DTSTART:20240310T070000
END:DAYLIGHT
BEGIN:STANDARD
TZOFFSETFROM:-0400
TZOFFSETTO:-0500
TZNAME:EST
DTSTART:20241103T060000
END:STANDARD
BEGIN:DAYLIGHT
TZOFFSETFROM:-0500
TZOFFSETTO:-0400
TZNAME:EDT
DTSTART:20250309T070000
END:DAYLIGHT
BEGIN:STANDARD
TZOFFSETFROM:-0400
TZOFFSETTO:-0500
TZNAME:EST
DTSTART:20251102T060000
END:STANDARD
BEGIN:DAYLIGHT
TZOFFSETFROM:-0500
TZOFFSETTO:-0400
TZNAME:EDT
DTSTART:20260308T070000
END:DAYLIGHT
BEGIN:STANDARD
TZOFFSETFROM:-0400
TZOFFSETTO:-0500
TZNAME:EST
DTSTART:20261101T060000
END:STANDARD
END:VTIMEZONE
BEGIN:VEVENT
DTSTART;VALUE=DATE:20251001
DTEND;VALUE=DATE:20251002
DTSTAMP:20260420T132038
CREATED:20250502T173224Z
LAST-MODIFIED:20250502T173224Z
UID:31986-1759276800-1759363199@ncmep.org
SUMMARY:ASSIST Center Industry Day
DESCRIPTION:SAVE THE DATE\n \nGet ready for an exciting opportunity to engage with groundbreaking research from our distinguished faculty! You’ll discover innovative advancements from industry leaders and gain invaluable insights from a dynamic selection of companies. Our agenda is packed with thrilling updates on ASSIST Seed Projects\, IConS Seed Projects\, and key Commercialization Efforts. This is your chance to expand your knowledge and connect with others in the field—register today and stay tuned for the amazing details that await! Don’t miss out on this incredible event!\n \nHave questions? Reach out to Cara Rebackoff for help.
URL:https://ncmep.org/event/assist-center-industry-day/
LOCATION:Webinar
CATEGORIES:Webinar
ATTACH;FMTTYPE=image/jpeg:https://ncmep.org/files/2025/02/2025-Virtual-Industry-Meeting.jpg
END:VEVENT
BEGIN:VEVENT
DTSTART;TZID=America/New_York:20250424T080000
DTEND;TZID=America/New_York:20250424T170000
DTSTAMP:20260420T132038
CREATED:20250226T152744Z
LAST-MODIFIED:20250226T154506Z
UID:30798-1745481600-1745514000@ncmep.org
SUMMARY:2025 Virtual Industry Meeting
DESCRIPTION:The 2025 ASSIST Spring Industry Meeting will take place on Thursday\, April 24\, 2025. \nGet ready for an exciting opportunity to engage with groundbreaking research from our distinguished faculty! You’ll discover innovative advancements from industry leaders and gain invaluable insights from a dynamic selection of companies. Our agenda is packed with thrilling updates on ASSIST Seed Projects\, IConS Seed Projects and key Commercialization Efforts. This is your chance to expand your knowledge and connect with others in the field—register today and stay tuned for the amazing details that await! Don’t miss out on this incredible event! \nHave questions? Reach out to Cara Rebackoff for help.\n  \nREGISTER TO ATTEND
URL:https://ncmep.org/event/2025-virtual-industry-meeting/
LOCATION:Webinar
CATEGORIES:Webinar
ATTACH;FMTTYPE=image/jpeg:https://ncmep.org/files/2025/02/2025-Virtual-Industry-Meeting.jpg
END:VEVENT
BEGIN:VEVENT
DTSTART;TZID=America/New_York:20250409T080000
DTEND;TZID=America/New_York:20250409T170000
DTSTAMP:20260420T132038
CREATED:20250206T134926Z
LAST-MODIFIED:20250206T134926Z
UID:30658-1744185600-1744218000@ncmep.org
SUMMARY:Wearable Device Challenge
DESCRIPTION:The 2025 Wearable Device Challenge will take place on Wednesday\, April 9\, 2025\, on the beautiful campus of North Carolina State University in Raleigh\, NC.\nThe Wearable Device Challenge integrates the One Health Initiative concepts and the Grand Challenges of Engineering to create a competition where students will be tasked with designing a wearable device to monitor the health of a human or animal based on environmental factors and/or disease transmission.\n  \nREGISTER TO ATTEND\n  \n\n\nWhat is ASSIST?\nWhat is the Wearable Device Challenge?\nAvailable Lesson Plans\nStudent Resources\nAdditional Teacher Resources\n\n\n  \nWhat is ASSIST?\nASSIST creates self-powered\, wearable health and environmental monitoring systems. ASSIST stands for “Advanced Self-Powered Systems of Integrated Sensors and Technologies.” ASSIST is an Engineering Research Center financed by the National Science Foundation and headquartered at NC State University. Education and outreach are an integral part of the Center’s mission and vision. The Wearable Device Challenge aims to disseminate the core of ASSIST work to the K-12 community and build the pipeline for young scientists and engineers who will be prepared to continue the important work of identifying and solving the Grand Challenges of Engineering for the future.\n  \nWhat is the Wearable Device Challenge?\nThe Wearable Device Challenge integrates the One Health Initiative concepts and the Grand Challenges of Engineering to create a competition where students will be tasked with designing a wearable device to monitor the health of a human or animal based on environmental factors and/or disease transmission. \n\n\nThe One Health Initiative is a collaborative initiative that focuses on the health of humans\, animals\, and the environment. Through studying these connections we can better understand animal-to-human interactions\, prevention of disease transmission\, and correlations between the environment\, and animal and human health.\nThe Grand Challenges of Engineering focus on fourteen areas of engineering that pose the greatest global challenges\, encouraging international collaboration to solve each challenge. One of the fourteen topics of the Grand Challenges of Engineering is advanced health informatics.\n\n\nFor the competition\, students will use the engineering design process to design their wearable device to solve a global health challenge. \n\n\nHigh school students will be required to design a working prototype of their device along with an ad campaign and poster.\nMiddle school students will be required to design a prototype of their device along with an ad campaign and poster.\n\n\n  \nREGISTER TO ATTEND\n  \nTEACHER REGISTRATION\n  \nMORE INFORMATION
URL:https://ncmep.org/event/wearable-device-challenge/
LOCATION:North Carolina State University\, 1210 Varsity Drive\, Raleigh\, NC\, 27695\, United States
CATEGORIES:Technology
ATTACH;FMTTYPE=image/jpeg:https://ncmep.org/files/2025/02/Wearable-Device-Challenge.jpg
END:VEVENT
END:VCALENDAR