BEGIN:VCALENDAR
VERSION:2.0
PRODID:-//North Carolina Manufacturing Extension Partnership - ECPv6.15.18//NONSGML v1.0//EN
CALSCALE:GREGORIAN
METHOD:PUBLISH
X-ORIGINAL-URL:https://ncmep.org
X-WR-CALDESC:Events for North Carolina Manufacturing Extension Partnership
REFRESH-INTERVAL;VALUE=DURATION:PT1H
X-Robots-Tag:noindex
X-PUBLISHED-TTL:PT1H
BEGIN:VTIMEZONE
TZID:America/New_York
BEGIN:DAYLIGHT
TZOFFSETFROM:-0500
TZOFFSETTO:-0400
TZNAME:EDT
DTSTART:20220313T070000
END:DAYLIGHT
BEGIN:STANDARD
TZOFFSETFROM:-0400
TZOFFSETTO:-0500
TZNAME:EST
DTSTART:20221106T060000
END:STANDARD
BEGIN:DAYLIGHT
TZOFFSETFROM:-0500
TZOFFSETTO:-0400
TZNAME:EDT
DTSTART:20230312T070000
END:DAYLIGHT
BEGIN:STANDARD
TZOFFSETFROM:-0400
TZOFFSETTO:-0500
TZNAME:EST
DTSTART:20231105T060000
END:STANDARD
BEGIN:DAYLIGHT
TZOFFSETFROM:-0500
TZOFFSETTO:-0400
TZNAME:EDT
DTSTART:20240310T070000
END:DAYLIGHT
BEGIN:STANDARD
TZOFFSETFROM:-0400
TZOFFSETTO:-0500
TZNAME:EST
DTSTART:20241103T060000
END:STANDARD
END:VTIMEZONE
BEGIN:VEVENT
DTSTART;TZID=America/New_York:20231114T090000
DTEND;TZID=America/New_York:20231114T143000
DTSTAMP:20260420T132412
CREATED:20231031T115655Z
LAST-MODIFIED:20231031T130939Z
UID:23124-1699952400-1699972200@ncmep.org
SUMMARY:Make Smart Manufacturing Work for You
DESCRIPTION:Join us at NC State’s Smart Manufacturing Innovation Center (SMIC) on Tuesday\, November 14\, and unlock the power of intelligent manufacturing. Discover how to optimize performance scheduling\, reduce costs\, and leverage the inherent intelligence in manufacturing. This event will feature industry-renowned speakers sharing smart manufacturing best practices tailored for small and medium-sized businesses. The Center receives funding from the nonprofit Clean Energy Smart Manufacturing Innovation Institute (CESMII)\, backed by the U.S. Department of Energy.\n  \n\nREGISTER TO ATTEND\n\n  \nMake Smart Manufacturing Work for You\n\nThis invitation extends to all individuals who are interested in utilizing cutting-edge technologies for the purpose of enhancing smart manufacturing.\n \n\n \nSmart manufacturing has gained much attention recently due to its potential for improving efficiency\, reducing costs\, and increasing competitiveness. It essentially uses advanced technologies such as big data analytics\, artificial intelligence (AI)\, and the Internet of Things (IoT) to optimize manufacturing processes. By utilizing these technologies\, intelligent manufacturing improves productivity and enables.\n \n\n \nMeet industry experts and NCSU students and faculty\, who will discuss smart manufacturing best practices for small and medium-sized businesses. Talk to industry experts\, see technologies in action\, and participate in hands-on demonstrations that will help expand your knowledge of SMART Manufacturing/Industry 4.0.\n  \n\nREGISTER TO ATTEND
URL:https://ncmep.org/event/make-smart-manufacturing-work-for-you/
LOCATION:NC State University Smart Manufacturing Innovation Center\, 850 Oval Drive\, Raleigh\, NC\, 27606\, United States
CATEGORIES:Manufacturing
ATTACH;FMTTYPE=image/jpeg:https://ncmep.org/files/2023/10/Smart-Manufacturing-Workshop-Banner.jpg
END:VEVENT
END:VCALENDAR