BEGIN:VCALENDAR
VERSION:2.0
PRODID:-//North Carolina Manufacturing Extension Partnership - ECPv6.15.18//NONSGML v1.0//EN
CALSCALE:GREGORIAN
METHOD:PUBLISH
X-ORIGINAL-URL:https://ncmep.org
X-WR-CALDESC:Events for North Carolina Manufacturing Extension Partnership
REFRESH-INTERVAL;VALUE=DURATION:PT1H
X-Robots-Tag:noindex
X-PUBLISHED-TTL:PT1H
BEGIN:VTIMEZONE
TZID:America/New_York
BEGIN:DAYLIGHT
TZOFFSETFROM:-0500
TZOFFSETTO:-0400
TZNAME:EDT
DTSTART:20220313T070000
END:DAYLIGHT
BEGIN:STANDARD
TZOFFSETFROM:-0400
TZOFFSETTO:-0500
TZNAME:EST
DTSTART:20221106T060000
END:STANDARD
BEGIN:DAYLIGHT
TZOFFSETFROM:-0500
TZOFFSETTO:-0400
TZNAME:EDT
DTSTART:20230312T070000
END:DAYLIGHT
BEGIN:STANDARD
TZOFFSETFROM:-0400
TZOFFSETTO:-0500
TZNAME:EST
DTSTART:20231105T060000
END:STANDARD
BEGIN:DAYLIGHT
TZOFFSETFROM:-0500
TZOFFSETTO:-0400
TZNAME:EDT
DTSTART:20240310T070000
END:DAYLIGHT
BEGIN:STANDARD
TZOFFSETFROM:-0400
TZOFFSETTO:-0500
TZNAME:EST
DTSTART:20241103T060000
END:STANDARD
BEGIN:DAYLIGHT
TZOFFSETFROM:-0500
TZOFFSETTO:-0400
TZNAME:EDT
DTSTART:20250309T070000
END:DAYLIGHT
BEGIN:STANDARD
TZOFFSETFROM:-0400
TZOFFSETTO:-0500
TZNAME:EST
DTSTART:20251102T060000
END:STANDARD
END:VTIMEZONE
BEGIN:VEVENT
DTSTART;TZID=America/New_York:20241017T073000
DTEND;TZID=America/New_York:20241017T170000
DTSTAMP:20260418T130356
CREATED:20240821T190716Z
LAST-MODIFIED:20240821T190716Z
UID:28930-1729150200-1729184400@ncmep.org
SUMMARY:Construction Quality Management for Contractors
DESCRIPTION:This course is required by both the Army Corp of Engineers (COE) and the Naval Facilities Engineering Command (NAVFAC) for contractors doing business aboard military installations. The CQM program covers the following topics: what is CQM\, Contractor and Government Responsibilities\, Quality Management Planning\, the Contractor’s QC Plan\, the Governments QA Plan\, the Pre-Construction Meeting\, the Coordination and Mutual Understanding Meeting\, Submittals\, the Three Phases of Control\, Testing\, Documentation\, and Certification by the QC Manager that all procedures were done in accordance with the P&S.  Upon successful completion of this class\, a QC Certificate of Completion is awarded. \nRe-certification is required every 5 years. \nClass Hours: 7:30-5:00 \nLocation: James Melton Vocational Skills Bldg.\, Room 104 B/C (unless otherwise stated) \nCost: $301.00 (includes materials) \nCall Continuing Education at 910-938-6294 or email coned@coastalcarolina.edu\, or Carla Watkins @ 910-938-6302 or email watkinsc@coastalcarolina.edu for information on registering for this class. \nPlease note: There are no fee exceptions for this class.   No refunds or transfers of dates or students are allowed for this class.  In the event the class is canceled by the institution (Coastal) a refund or a transfer of dates shall be granted.
URL:https://ncmep.org/event/construction-quality-management-for-contractors-4/
LOCATION:James Melton Vocational Skills Bldg.\, Room 104 B/C\, Coastal Carolina Community College
ATTACH;FMTTYPE=image/png:https://ncmep.org/files/2024/08/EF1357C4-0982-41F4-A0E9-9BA6E91F5FD7-8sshKv.tmp_.png
END:VEVENT
BEGIN:VEVENT
DTSTART;TZID=America/New_York:20240924T073000
DTEND;TZID=America/New_York:20240924T170000
DTSTAMP:20260418T130356
CREATED:20240821T190714Z
LAST-MODIFIED:20240821T190714Z
UID:28929-1727163000-1727197200@ncmep.org
SUMMARY:Construction Quality Management for Contractors
DESCRIPTION:This course is required by both the Army Corp of Engineers (COE) and the Naval Facilities Engineering Command (NAVFAC) for contractors doing business aboard military installations. The CQM program covers the following topics: what is CQM\, Contractor and Government Responsibilities\, Quality Management Planning\, the Contractor’s QC Plan\, the Governments QA Plan\, the Pre-Construction Meeting\, the Coordination and Mutual Understanding Meeting\, Submittals\, the Three Phases of Control\, Testing\, Documentation\, and Certification by the QC Manager that all procedures were done in accordance with the P&S.  Upon successful completion of this class\, a QC Certificate of Completion is awarded. \nRe-certification is required every 5 years. \nClass Hours: 7:30-5:00 \nLocation: James Melton Vocational Skills Bldg.\, Room 104 B/C (unless otherwise stated) \nCost: $301.00 (includes materials) \nCall Continuing Education at 910-938-6294 or email coned@coastalcarolina.edu\, or Carla Watkins @ 910-938-6302 or email watkinsc@coastalcarolina.edu for information on registering for this class. \nPlease note: There are no fee exceptions for this class.   No refunds or transfers of dates or students are allowed for this class.  In the event the class is canceled by the institution (Coastal) a refund or a transfer of dates shall be granted.
URL:https://ncmep.org/event/construction-quality-management-for-contractors-3/
LOCATION:James Melton Vocational Skills Bldg.\, Room 104 B/C\, Coastal Carolina Community College
ATTACH;FMTTYPE=image/png:https://ncmep.org/files/2024/08/EF1357C4-0982-41F4-A0E9-9BA6E91F5FD7-8sshKv.tmp_.png
END:VEVENT
BEGIN:VEVENT
DTSTART;TZID=America/New_York:20240822T073000
DTEND;TZID=America/New_York:20240822T170000
DTSTAMP:20260418T130356
CREATED:20240820T143634Z
LAST-MODIFIED:20240820T143634Z
UID:28864-1724311800-1724346000@ncmep.org
SUMMARY:Construction Quality Management for Contractors
DESCRIPTION:This course is required by both the Army Corp of Engineers (COE) and the Naval Facilities Engineering Command (NAVFAC) for contractors doing business aboard military installations. The CQM program covers the following topics: what is CQM\, Contractor and Government Responsibilities\, Quality Management Planning\, the Contractor’s QC Plan\, the Governments QA Plan\, the Pre-Construction Meeting\, the Coordination and Mutual Understanding Meeting\, Submittals\, the Three Phases of Control\, Testing\, Documentation\, and Certification by the QC Manager that all procedures were done in accordance with the P&S.  Upon successful completion of this class\, a QC Certificate of Completion is awarded. \nRe-certification is required every 5 years. \nClass Hours: 7:30-5:00 \nLocation: James Melton Vocational Skills Bldg.\, Room 104 B/C (unless otherwise stated) \nCost: $301.00 (includes materials) \nCall Continuing Education at 910-938-6294 or email coned@coastalcarolina.edu\, or Carla Watkins @ 910-938-6302 or email watkinsc@coastalcarolina.edu for information on registering for this class. \nPlease note: There are no fee exceptions for this class.   No refunds or transfers of dates or students are allowed for this class.  In the event the class is canceled by the institution (Coastal) a refund or a transfer of dates shall be granted.
URL:https://ncmep.org/event/construction-quality-management-for-contractors-2/
LOCATION:James Melton Vocational Skills Bldg.\, Room 104 B/C\, Coastal Carolina Community College
ATTACH;FMTTYPE=image/png:https://ncmep.org/files/2024/08/EF1357C4-0982-41F4-A0E9-9BA6E91F5FD7-8sshKv.tmp_.png
END:VEVENT
BEGIN:VEVENT
DTSTART;TZID=America/New_York:20240822T073000
DTEND;TZID=America/New_York:20240822T170000
DTSTAMP:20260418T130356
CREATED:20240807T162443Z
LAST-MODIFIED:20240807T162443Z
UID:28761-1724311800-1724346000@ncmep.org
SUMMARY:Construction Quality Management for Contractors
DESCRIPTION:This course is required by both the Army Corp of Engineers (COE) and the Naval Facilities Engineering Command (NAVFAC) for contractors doing business aboard military installations. The CQM program covers the following topics: what is CQM\, Contractor and Government Responsibilities\, Quality Management Planning\, the Contractor’s QC Plan\, the Governments QA Plan\, the Pre-Construction Meeting\, the Coordination and Mutual Understanding Meeting\, Submittals\, the Three Phases of Control\, Testing\, Documentation\, and Certification by the QC Manager that all procedures were done in accordance with the P&S.  Upon successful completion of this class\, a QC Certificate of Completion is awarded.\n \nRe-certification is required every 5 years.\n \nCost includes materials.\n \nCall Continuing Education at 910.938.6294 or email coned@coastalcarolina.edu\, or Carla Watkins at 910.938.6302 or email watkinsc@coastalcarolina.edu for information on registering for this class.\n \nPlease note: There are no fee exceptions for this class. No refunds or transfers of dates or students are allowed for this class. In the event the class is canceled by the institution (Coastal) a refund or a transfer of dates shall be granted.
URL:https://ncmep.org/event/construction-quality-management-for-contractors/
LOCATION:James Melton Vocational Skills Bldg.\, University Drive\, Jacksonville\, NC\, 28546\, United States
CATEGORIES:Construction
ATTACH;FMTTYPE=image/jpeg:https://ncmep.org/files/2024/08/Construction-Quality-Management-for-Contractors.jpg
END:VEVENT
BEGIN:VEVENT
DTSTART;TZID=America/New_York:20231019T073000
DTEND;TZID=America/New_York:20231019T170000
DTSTAMP:20260418T130356
CREATED:20231016T134103Z
LAST-MODIFIED:20231016T135043Z
UID:22853-1697700600-1697734800@ncmep.org
SUMMARY:Construction Quality Management for Contractors Course
DESCRIPTION:James Melton Vocational Skills Building – Room 104 B/C\n  \nREGISTER TO ATTEND\n \nThis course is required by both the Army Corp of Engineers (COE) and the Naval Facilities Engineering Command (NAVFAC) for contractors doing business aboard military installations. The CQM program covers the following topics: what is CQM\, Contractor and Government Responsibilities\, Quality Management Planning\, the Contractor’s QC Plan\, the Governments QA Plan\, the Pre-Construction Meeting\, the Coordination and Mutual Understanding Meeting\, Submittals\, the Three Phases of Control\, Testing\, Documentation\, and Certification by the QC Manager that all procedures were done in accordance with the P&S. Upon successful completion of this class\, a QC Certificate of Completion is awarded. \nRe-certification is required every 5 years.\n  \n\nCall Carla Gavre at 910.938.6302 or email gavrec@coastalcarolina.edu or\, Continuing Education at 910.938.6294 or email coned@coastalcarolina.edu for information on registering for this class. \n\n \nCost for course includes materials. \nPlease note: There are no fee exceptions for this class. No refunds or transfers of dates or students are allowed for this class. In the event the class is canceled by the institution (Coastal) a refund or a transfer of dates shall be granted.
URL:https://ncmep.org/event/construction-quality-management-for-contractors-course/
LOCATION:Coastal Carolina Community College\, 444 Western Boulevard\, Jacksonville\, NC\, 28546\, United States
CATEGORIES:Construction
ATTACH;FMTTYPE=image/jpeg:https://ncmep.org/files/2023/10/Coastal-Carolina-Community-College-Logo.jpg
END:VEVENT
END:VCALENDAR