BEGIN:VCALENDAR
VERSION:2.0
PRODID:-//North Carolina Manufacturing Extension Partnership - ECPv6.15.18//NONSGML v1.0//EN
CALSCALE:GREGORIAN
METHOD:PUBLISH
X-ORIGINAL-URL:https://ncmep.org
X-WR-CALDESC:Events for North Carolina Manufacturing Extension Partnership
REFRESH-INTERVAL;VALUE=DURATION:PT1H
X-Robots-Tag:noindex
X-PUBLISHED-TTL:PT1H
BEGIN:VTIMEZONE
TZID:America/New_York
BEGIN:DAYLIGHT
TZOFFSETFROM:-0500
TZOFFSETTO:-0400
TZNAME:EDT
DTSTART:20240310T070000
END:DAYLIGHT
BEGIN:STANDARD
TZOFFSETFROM:-0400
TZOFFSETTO:-0500
TZNAME:EST
DTSTART:20241103T060000
END:STANDARD
BEGIN:DAYLIGHT
TZOFFSETFROM:-0500
TZOFFSETTO:-0400
TZNAME:EDT
DTSTART:20250309T070000
END:DAYLIGHT
BEGIN:STANDARD
TZOFFSETFROM:-0400
TZOFFSETTO:-0500
TZNAME:EST
DTSTART:20251102T060000
END:STANDARD
BEGIN:DAYLIGHT
TZOFFSETFROM:-0500
TZOFFSETTO:-0400
TZNAME:EDT
DTSTART:20260308T070000
END:DAYLIGHT
BEGIN:STANDARD
TZOFFSETFROM:-0400
TZOFFSETTO:-0500
TZNAME:EST
DTSTART:20261101T060000
END:STANDARD
END:VTIMEZONE
BEGIN:VEVENT
DTSTART;VALUE=DATE:20250505
DTEND;VALUE=DATE:20250510
DTSTAMP:20260422T071645
CREATED:20250415T143531Z
LAST-MODIFIED:20250415T151610Z
UID:31577-1746403200-1746835199@ncmep.org
SUMMARY:National Safety Stand-Down to Prevent Falls in Construction Week
DESCRIPTION:Falls are the top cause of construction fatalities and account for one-third of on-the-job injury deaths in the industry\, with a disproportionate number of incidents occurring in the residential sector. Each year in the U.S. construction industry\, over 10\,000 workers are seriously injured by falls and approximately one worker dies every day from a fall to a lower level.\n \nThe National Campaign to Prevent Falls in Construction (Falls Campaign) was founded in 2012 by the National Occupational Research Agenda Construction Sector Council (NORA)\, the National Institute for Occupational Safety and Health (NIOSH)\, the CPWR – The Center for Construction Research and Training (CPWR) and the Occupational Safety and Health Administration (OSHA) to raise awareness of the danger of falls in construction and to prevent fall injuries and fatalities.\n \nThe goal of the Falls Campaign is to prevent fatal falls from roofs\, ladders\, and scaffolds by encouraging all employers\, and especially residential construction contractors\, to: \n\n\nPLAN ahead to get the job done safely.\nPROVIDE the right equipment.\nTRAIN everyone to use the equipment safely.\n\n\n \nContractors\, workers\, safety associations\, labor unions — and all industry stakeholders — can help prevent falls and save lives by joining the Falls Campaign. Read the How-To Guide for Partners Joining the Falls Campaign (English) for information on developing your own Safety Pays\, Falls Cost campaign in your community.\n \nVisit stopconstructionfalls.com/home for more information
URL:https://ncmep.org/event/national-safety-stand-down-to-prevent-falls-in-construction-week/
CATEGORIES:OSHA
ATTACH;FMTTYPE=image/jpeg:https://ncmep.org/files/2025/04/Stand-Down-for-Safety.jpg
END:VEVENT
END:VCALENDAR