BEGIN:VCALENDAR
VERSION:2.0
PRODID:-//North Carolina Manufacturing Extension Partnership - ECPv6.15.18//NONSGML v1.0//EN
CALSCALE:GREGORIAN
METHOD:PUBLISH
X-WR-CALNAME:North Carolina Manufacturing Extension Partnership
X-ORIGINAL-URL:https://ncmep.org
X-WR-CALDESC:Events for North Carolina Manufacturing Extension Partnership
REFRESH-INTERVAL;VALUE=DURATION:PT1H
X-Robots-Tag:noindex
X-PUBLISHED-TTL:PT1H
BEGIN:VTIMEZONE
TZID:America/New_York
BEGIN:DAYLIGHT
TZOFFSETFROM:-0500
TZOFFSETTO:-0400
TZNAME:EDT
DTSTART:20200308T070000
END:DAYLIGHT
BEGIN:STANDARD
TZOFFSETFROM:-0400
TZOFFSETTO:-0500
TZNAME:EST
DTSTART:20201101T060000
END:STANDARD
BEGIN:DAYLIGHT
TZOFFSETFROM:-0500
TZOFFSETTO:-0400
TZNAME:EDT
DTSTART:20210314T070000
END:DAYLIGHT
BEGIN:STANDARD
TZOFFSETFROM:-0400
TZOFFSETTO:-0500
TZNAME:EST
DTSTART:20211107T060000
END:STANDARD
BEGIN:DAYLIGHT
TZOFFSETFROM:-0500
TZOFFSETTO:-0400
TZNAME:EDT
DTSTART:20220313T070000
END:DAYLIGHT
BEGIN:STANDARD
TZOFFSETFROM:-0400
TZOFFSETTO:-0500
TZNAME:EST
DTSTART:20221106T060000
END:STANDARD
BEGIN:DAYLIGHT
TZOFFSETFROM:-0500
TZOFFSETTO:-0400
TZNAME:EDT
DTSTART:20230312T070000
END:DAYLIGHT
BEGIN:STANDARD
TZOFFSETFROM:-0400
TZOFFSETTO:-0500
TZNAME:EST
DTSTART:20231105T060000
END:STANDARD
BEGIN:DAYLIGHT
TZOFFSETFROM:-0500
TZOFFSETTO:-0400
TZNAME:EDT
DTSTART:20240310T070000
END:DAYLIGHT
BEGIN:STANDARD
TZOFFSETFROM:-0400
TZOFFSETTO:-0500
TZNAME:EST
DTSTART:20241103T060000
END:STANDARD
BEGIN:DAYLIGHT
TZOFFSETFROM:-0500
TZOFFSETTO:-0400
TZNAME:EDT
DTSTART:20250309T070000
END:DAYLIGHT
BEGIN:STANDARD
TZOFFSETFROM:-0400
TZOFFSETTO:-0500
TZNAME:EST
DTSTART:20251102T060000
END:STANDARD
END:VTIMEZONE
BEGIN:VEVENT
DTSTART;TZID=America/New_York:20240802T080000
DTEND;TZID=America/New_York:20240802T170000
DTSTAMP:20260420T091835
CREATED:20240703T102644Z
LAST-MODIFIED:20240703T102831Z
UID:27940-1722585600-1722618000@ncmep.org
SUMMARY:Best Practices of Operational Excellence to Recycle\, Reduce And Reuse Resources In Manufacturing Industries
DESCRIPTION:NO COST MANUFACTURING TRAINING\n \n\n  \nDOWNLOAD DOCUMENT
URL:https://ncmep.org/event/best-practices-of-operational-excellence-to-recycle-reduce-and-reuse-resources-in-manufacturing-industries/
LOCATION:East Carolina University – Classroom A\, 501 E. 10th Street\, Greenville\, NC\, 27858\, United States
CATEGORIES:Manufacturing
ATTACH;FMTTYPE=image/jpeg:https://ncmep.org/files/2024/07/Best-Practices-of-Operational-Excellence-to-Recycle-Reduce-And-Reuse-Resources-In-Manufacturing-Industries.jpg
END:VEVENT
BEGIN:VEVENT
DTSTART;TZID=America/New_York:20240801T080000
DTEND;TZID=America/New_York:20240801T170000
DTSTAMP:20260420T091835
CREATED:20240702T175813Z
LAST-MODIFIED:20240702T175813Z
UID:27926-1722499200-1722531600@ncmep.org
SUMMARY:Issues That Hamper Manufacturing Industries To Recycle\, Reduce and Reuse Resources
DESCRIPTION:NO COST MANUFACTURING TRAINING\n \n\n  \nDOWNLOAD DOCUMENT
URL:https://ncmep.org/event/issues-that-hamper-manufacturing-industries-to-recycle-reduce-and-reuse-resources/
LOCATION:East Carolina University – Classroom A\, 501 E. 10th Street\, Greenville\, NC\, 27858\, United States
CATEGORIES:Manufacturing
ATTACH;FMTTYPE=image/jpeg:https://ncmep.org/files/2024/07/No-Cost-Training-In-Pittsboro.jpg
END:VEVENT
BEGIN:VEVENT
DTSTART;VALUE=DATE:20210723
DTEND;VALUE=DATE:20210801
DTSTAMP:20260420T091835
CREATED:20210622T163304Z
LAST-MODIFIED:20210622T165450Z
UID:15168-1626998400-1627775999@ncmep.org
SUMMARY:PMP Exam Prep Workshop
DESCRIPTION:“Research indicates that employers will need to fill nearly 2.2 million new project-oriented roles each year through 2027. This means skilled project managers are in high demand.”  \nProject Management Institute (PMI) Certifications are recognized worldwide. This workshop will prepare participants to sit for the Project Management Professional (PMP) Exam or the Certified Associate in Project Management (CAPM) Certification Exam. It is not intended to teach you how to be a project manager since you need some project management experience or education before you apply to sit for the exam. The format of the workshop will be a hybrid of primarily face-to-face instruction and instructor-led virtual portions. \nThe workshop will cover the topics outlined in each of the three Domains (People\, Process and Business Environment) being covered in the exam released in January 2021. This will include crucial project management concepts and formulas. Tips and techniques will be provided on how to be successful when sitting for the exam. Practice exam questions will be used to help participants familiarize themselves with the question formats. Finally\, a customized study plan will be developed for participants to guide them to exam day \nWhy do you need it: The CAPM and PMP certifications can increase your professional credibility and are recognized internationally. The CIO journal lists the CAPM and PMP as one of the top project management certifications for 2020  (Florentine\, 2019). www.PMI.org indicates the earning power of a project manager is greater with the certification; the median salary for PMPs is 25% higher than those without it. \nWho should take it: For the PMP – those who have a 4-year degree and 3 years experience leading projects. For the CAPM – those who have a high school diploma and 23 contact hours of formal education. \nWhat can you expect: The workshop instructor will lecture using selected resources that will be provided to participants who will need to read them. Participants will also participate in exercises and take practice exams. Time will be included to allow participants to ask questions. \n  \nModality\nHybrid \nDates\nJuly 23 – July 24 (Face-to-Face)\nJuly 30 – July 31 (Online) \nLocation for Face-to-Face Portion\nECU Health Sciences Campus Student Center\, Grand Room 202 \nRegistration Deadline\nJuly 14\, 2021 \n  \nLearn more about this workshop »\n  \nFor registration questions: email cpe@ecu.edu  \nFor course questions: email reeda@ecu.edu 
URL:https://ncmep.org/event/pmp-exam-prep-workshop/
LOCATION:ECU Health Sciences Campus Student Center\, Grand Room 202\, ECU Health Sciences Campus Student Center\, Grand Room 202\, NC
CATEGORIES:Partner Events
ATTACH;FMTTYPE=image/jpeg:https://ncmep.org/files/2021/06/shutterstock_1666851595-2048x1152-1.jpg
END:VEVENT
END:VCALENDAR