BEGIN:VCALENDAR
VERSION:2.0
PRODID:-//North Carolina Manufacturing Extension Partnership - ECPv6.15.18//NONSGML v1.0//EN
CALSCALE:GREGORIAN
METHOD:PUBLISH
X-ORIGINAL-URL:https://ncmep.org
X-WR-CALDESC:Events for North Carolina Manufacturing Extension Partnership
REFRESH-INTERVAL;VALUE=DURATION:PT1H
X-Robots-Tag:noindex
X-PUBLISHED-TTL:PT1H
BEGIN:VTIMEZONE
TZID:America/New_York
BEGIN:DAYLIGHT
TZOFFSETFROM:-0500
TZOFFSETTO:-0400
TZNAME:EDT
DTSTART:20240310T070000
END:DAYLIGHT
BEGIN:STANDARD
TZOFFSETFROM:-0400
TZOFFSETTO:-0500
TZNAME:EST
DTSTART:20241103T060000
END:STANDARD
BEGIN:DAYLIGHT
TZOFFSETFROM:-0500
TZOFFSETTO:-0400
TZNAME:EDT
DTSTART:20250309T070000
END:DAYLIGHT
BEGIN:STANDARD
TZOFFSETFROM:-0400
TZOFFSETTO:-0500
TZNAME:EST
DTSTART:20251102T060000
END:STANDARD
BEGIN:DAYLIGHT
TZOFFSETFROM:-0500
TZOFFSETTO:-0400
TZNAME:EDT
DTSTART:20260308T070000
END:DAYLIGHT
BEGIN:STANDARD
TZOFFSETFROM:-0400
TZOFFSETTO:-0500
TZNAME:EST
DTSTART:20261101T060000
END:STANDARD
END:VTIMEZONE
BEGIN:VEVENT
DTSTART;TZID=America/New_York:20250428T100000
DTEND;TZID=America/New_York:20250428T140000
DTSTAMP:20260420T110531
CREATED:20250224T203146Z
LAST-MODIFIED:20250224T203146Z
UID:30759-1745834400-1745848800@ncmep.org
SUMMARY:Save the Date - Gaston College Fiber Innovation Center Ribbon-Cutting
DESCRIPTION:SAVE THE DATE\nFiber Innovation Center Ribbon-Cutting\nApril 28\, 2025\n10 a.m.\nGaston-College – Kimbrell Campus\n7220 Wilkinson Blvd.\nBelmont\, NC 28012
URL:https://ncmep.org/event/save-the-date-gaston-college-fiber-innovation-center-ribbon-cutting/
LOCATION:Gaston College\, 7220 Wilkinson Blvd\,\, Belmont\, NC\, 28012\, United States
CATEGORIES:Technology
ATTACH;FMTTYPE=image/jpeg:https://ncmep.org/files/2025/02/Fiber-Innovation-Center-Save-The-Date.jpg
END:VEVENT
END:VCALENDAR