BEGIN:VCALENDAR
VERSION:2.0
PRODID:-//North Carolina Manufacturing Extension Partnership - ECPv6.15.18//NONSGML v1.0//EN
CALSCALE:GREGORIAN
METHOD:PUBLISH
X-WR-CALNAME:North Carolina Manufacturing Extension Partnership
X-ORIGINAL-URL:https://ncmep.org
X-WR-CALDESC:Events for North Carolina Manufacturing Extension Partnership
REFRESH-INTERVAL;VALUE=DURATION:PT1H
X-Robots-Tag:noindex
X-PUBLISHED-TTL:PT1H
BEGIN:VTIMEZONE
TZID:America/New_York
BEGIN:DAYLIGHT
TZOFFSETFROM:-0500
TZOFFSETTO:-0400
TZNAME:EDT
DTSTART:20230312T070000
END:DAYLIGHT
BEGIN:STANDARD
TZOFFSETFROM:-0400
TZOFFSETTO:-0500
TZNAME:EST
DTSTART:20231105T060000
END:STANDARD
BEGIN:DAYLIGHT
TZOFFSETFROM:-0500
TZOFFSETTO:-0400
TZNAME:EDT
DTSTART:20240310T070000
END:DAYLIGHT
BEGIN:STANDARD
TZOFFSETFROM:-0400
TZOFFSETTO:-0500
TZNAME:EST
DTSTART:20241103T060000
END:STANDARD
BEGIN:DAYLIGHT
TZOFFSETFROM:-0500
TZOFFSETTO:-0400
TZNAME:EDT
DTSTART:20250309T070000
END:DAYLIGHT
BEGIN:STANDARD
TZOFFSETFROM:-0400
TZOFFSETTO:-0500
TZNAME:EST
DTSTART:20251102T060000
END:STANDARD
END:VTIMEZONE
BEGIN:VEVENT
DTSTART;TZID=America/New_York:20241022T130000
DTEND;TZID=America/New_York:20241022T140000
DTSTAMP:20260422T054945
CREATED:20241011T165312Z
LAST-MODIFIED:20241011T165535Z
UID:29377-1729602000-1729605600@ncmep.org
SUMMARY:Canada's New CARM Initiative and How it Affects You as a US Exporter
DESCRIPTION:Join us for an insightful webinar\, presented in collaboration with ITA’s Strategic Partner FedEx\, to learn about Canada Border Services Agency (CBSA) Assessment and Revenue Management (CARM).\n \nOn October 21\, 2024\, the Canada Border Services Agency’s (CBSA) Assessment and Revenue Management (CARM) system will become the official system of record for the accounting and collection of duties and taxes on commercial imports to Canada. As a U.S. exporter to Canada\, we invite all commercial importers – including Non-Resident-Importers – to join this free webinar to understand your obligations to help you avoid the impact of anticipated challenges!\n  \nREGISTER TO ATTEND
URL:https://ncmep.org/event/canadas-new-carm-initiative-and-how-it-affects-you-as-a-us-exporter/
LOCATION:Webinar
CATEGORIES:Export
ATTACH;FMTTYPE=image/jpeg:https://ncmep.org/files/2024/10/Canadas-New-CARM-Initiative-and-How-it-Affects-You-as-a-US-Exporter.jpg
END:VEVENT
END:VCALENDAR