BEGIN:VCALENDAR
VERSION:2.0
PRODID:-//North Carolina Manufacturing Extension Partnership - ECPv6.15.18//NONSGML v1.0//EN
CALSCALE:GREGORIAN
METHOD:PUBLISH
X-ORIGINAL-URL:https://ncmep.org
X-WR-CALDESC:Events for North Carolina Manufacturing Extension Partnership
REFRESH-INTERVAL;VALUE=DURATION:PT1H
X-Robots-Tag:noindex
X-PUBLISHED-TTL:PT1H
BEGIN:VTIMEZONE
TZID:America/New_York
BEGIN:DAYLIGHT
TZOFFSETFROM:-0500
TZOFFSETTO:-0400
TZNAME:EDT
DTSTART:20240310T070000
END:DAYLIGHT
BEGIN:STANDARD
TZOFFSETFROM:-0400
TZOFFSETTO:-0500
TZNAME:EST
DTSTART:20241103T060000
END:STANDARD
BEGIN:DAYLIGHT
TZOFFSETFROM:-0500
TZOFFSETTO:-0400
TZNAME:EDT
DTSTART:20250309T070000
END:DAYLIGHT
BEGIN:STANDARD
TZOFFSETFROM:-0400
TZOFFSETTO:-0500
TZNAME:EST
DTSTART:20251102T060000
END:STANDARD
BEGIN:DAYLIGHT
TZOFFSETFROM:-0500
TZOFFSETTO:-0400
TZNAME:EDT
DTSTART:20260308T070000
END:DAYLIGHT
BEGIN:STANDARD
TZOFFSETFROM:-0400
TZOFFSETTO:-0500
TZNAME:EST
DTSTART:20261101T060000
END:STANDARD
END:VTIMEZONE
BEGIN:VEVENT
DTSTART;TZID=America/New_York:20250805T073000
DTEND;TZID=America/New_York:20250806T150000
DTSTAMP:20260418T025919
CREATED:20250529T110437Z
LAST-MODIFIED:20250529T111552Z
UID:32136-1754379000-1754492400@ncmep.org
SUMMARY:Environmental • Energy • Health & Safety School
DESCRIPTION:2 Days • 3 consecutive classroom • 9 sessions • 27 topics\n  \nREGISTER TO ATTEND\n \nTimely and relevant presentations\, panels\, and discussions about Health & Safety\, Energy\, Sustainability\, Air Quality\, Water Quality\, Waste Management. During the two-day school\, attendees choose any combination of nine sessions taught in 3 concurrent classrooms from the list of 27 courses offered. Attendees have the flexibility to select a schedule tailored to their individual interests and needs. \nExhibit Hall showcasing products and services essential to Energy and EHS professionals.\n  \nWho Attends\nAttendees include Industry\, consulting and government personnel responsible for compliance with environmental\, energy\, health and safety laws and regulations. \nManufacturers • Plant Managers • Environmental Health & Safety Practitioners • Consultants • Attorneys • Commercial Real Estate Professionals • POTW Operators • State and Local Regulators • Federal Program Managers • Land Developers • Energy and Sustainability Professionals\n  \nRegistration for Attendees\nGeneral Registration – $395\nNCMA Member Registration – $350\nGovernment Registration – $350\nStudent Registration – $50 with valid student ID\nRegistrations after July 23\, 2025 – $450 \nRegistration includes 2 luncheon buffets\, evening reception first day\, breakfast second day and multiple breaks both days.\n  \nRegistration for Exhibitors\nInterested in exhibiting at EEHS School?\nRegister at https://events.humanitix.com/e…\n  \nWhere to Stay\nThe McKimmon Center and NC State maintain a preferred rate agreement with several area hotels. Click the link below for a complete list: \nhttps://mckimmoncenter.ncsu.edu/mctc/hotels/ \nIf the promotional code is not listed\, you may reference “the McKimmon Center at NC State” for a special rate. Rates are subject to availability. Please contact the hotel of your choice by phone if you have any further questions.\n  \nRefund Policy\n\n\nNCMA will provide full refund up to 20 days prior to the event.\nNCMA will provide 50% refund after 20 days but before 10 days prior to the event.\nNCMA cannot provide refunds within 10 days of the event due to commitments we make for food service based on anticipated attendance.\nSubstitutions are allowed at any time.\n\n\n  \nREGISTER TO ATTEND
URL:https://ncmep.org/event/environmental-energy-health-safety-school/
LOCATION:McKimmon Conference and Training Center\, 1101 Gorman Street\, Raleigh\, NC\, 27606\, United States
CATEGORIES:Conference
ATTACH;FMTTYPE=image/jpeg:https://ncmep.org/files/2025/05/Environmental-Energy-Health-and-Safety-School.jpg
END:VEVENT
END:VCALENDAR