BEGIN:VCALENDAR
VERSION:2.0
PRODID:-//North Carolina Manufacturing Extension Partnership - ECPv6.15.18//NONSGML v1.0//EN
CALSCALE:GREGORIAN
METHOD:PUBLISH
X-ORIGINAL-URL:https://ncmep.org
X-WR-CALDESC:Events for North Carolina Manufacturing Extension Partnership
REFRESH-INTERVAL;VALUE=DURATION:PT1H
X-Robots-Tag:noindex
X-PUBLISHED-TTL:PT1H
BEGIN:VTIMEZONE
TZID:America/New_York
BEGIN:DAYLIGHT
TZOFFSETFROM:-0500
TZOFFSETTO:-0400
TZNAME:EDT
DTSTART:20230312T070000
END:DAYLIGHT
BEGIN:STANDARD
TZOFFSETFROM:-0400
TZOFFSETTO:-0500
TZNAME:EST
DTSTART:20231105T060000
END:STANDARD
BEGIN:DAYLIGHT
TZOFFSETFROM:-0500
TZOFFSETTO:-0400
TZNAME:EDT
DTSTART:20240310T070000
END:DAYLIGHT
BEGIN:STANDARD
TZOFFSETFROM:-0400
TZOFFSETTO:-0500
TZNAME:EST
DTSTART:20241103T060000
END:STANDARD
BEGIN:DAYLIGHT
TZOFFSETFROM:-0500
TZOFFSETTO:-0400
TZNAME:EDT
DTSTART:20250309T070000
END:DAYLIGHT
BEGIN:STANDARD
TZOFFSETFROM:-0400
TZOFFSETTO:-0500
TZNAME:EST
DTSTART:20251102T060000
END:STANDARD
BEGIN:DAYLIGHT
TZOFFSETFROM:-0500
TZOFFSETTO:-0400
TZNAME:EDT
DTSTART:20260308T070000
END:DAYLIGHT
BEGIN:STANDARD
TZOFFSETFROM:-0400
TZOFFSETTO:-0500
TZNAME:EST
DTSTART:20261101T060000
END:STANDARD
END:VTIMEZONE
BEGIN:VEVENT
DTSTART;VALUE=DATE:20250720
DTEND;VALUE=DATE:20250723
DTSTAMP:20260421T042138
CREATED:20241108T213558Z
LAST-MODIFIED:20250228T132308Z
UID:29600-1752969600-1753228799@ncmep.org
SUMMARY:Promoting Excellence in Textile Manufacturing
DESCRIPTION:Who are we? \nThe Southern Textile Association\, Inc.\, established in 1908\, is a nonprofit organization for individuals in the textile and related industries with a common interest in all phases of textile manufacturing. \nThe purpose of the Association as stated in its Charter is to promote good fellowship among its members; to exchange professional knowledge and experience on subjects relating to textile manufacturing; to promote other social\, educational\, personnel relations\, research and other scientific activities for the benefit of the members\, their companies\, and the textile industry.\n  \nREGISTER TO ATTEND\n  \nWhat do we do?\nTo achieve its goals and localize activities as much as possible\, the association consists of two geographic divisions – the Northern Division and the Southern Division. New divisions may be created as needed to serve other geographic areas. \nDivisional meetings are held in the spring and fall\, with programs selected to fill the division needs and interest covering technical areas\, technology updates\, management trends\, human resources and current issues affecting the industry. \nA full-day winter seminar is held each year during which subjects of timely interest are selected to keep members updated on trends in technology and manufacturing management. A conference is now being held every August to work on developing a dialogue between the mills\, machinery vendors\, suppliers and retailers for the purpose of developing new products. This conference has been very successful. \nThe annual meeting is held in June at locations such as Hilton Head\, and Myrtle Beach\, SC. In addition to the informative business sessions\, the annual meeting offers a range of social and recreational events\, including the annual golf and tennis tournaments.\n  \nBenefits\nMembership in STA offers the opportunity to network with peers in all sectors of the textile industry through personal contact and association. \nThe current membership of over 500 people draws from virtually every sector of the industry from yarn spinning to fabric finishing\, including suppliers of fiber\, machinery\, replacement parts\, dyes\, chemicals\, and services. This permits seminar topics to be discussed in terms of the impact on the total manufacturing chain. Networking provides producers of primary products such as fiber and yarn the opportunity to interact directly with knitters\, weavers\, and others for mutual benefit and support in producing quality textiles for domestic and global markets.\n  \nREGISTER TO ATTEND
URL:https://ncmep.org/event/promoting-excellence-in-textile-manufacturing-2025-07-20/
LOCATION:Sonesta Resort Hilton Head Island\, 130 Shipyard Drive\, Hilton Head Island\, SC\, 29928\, United States
CATEGORIES:Textiles
ATTACH;FMTTYPE=image/jpeg:https://ncmep.org/files/2024/11/Promoting-Excellence-in-Textile-Manufacturing.jpg
END:VEVENT
BEGIN:VEVENT
DTSTART;VALUE=DATE:20250422
DTEND;VALUE=DATE:20250423
DTSTAMP:20260421T042138
CREATED:20241108T213558Z
LAST-MODIFIED:20250328T134321Z
UID:30585-1745280000-1745366399@ncmep.org
SUMMARY:Promoting Excellence in Textile Manufacturing
DESCRIPTION:Who are we? \nThe Southern Textile Association\, Inc.\, established in 1908\, is a nonprofit organization for individuals in the textile and related industries with a common interest in all phases of textile manufacturing. \nThe purpose of the Association as stated in its Charter is to promote good fellowship among its members; to exchange professional knowledge and experience on subjects relating to textile manufacturing; to promote other social\, educational\, personnel relations\, research and other scientific activities for the benefit of the members\, their companies\, and the textile industry.\n  \nREGISTER TO ATTEND\n  \nWhat do we do?\nTo achieve its goals and localize activities as much as possible\, the association consists of two geographic divisions – the Northern Division and the Southern Division. New divisions may be created as needed to serve other geographic areas. \nDivisional meetings are held in the spring and fall\, with programs selected to fill the division needs and interest covering technical areas\, technology updates\, management trends\, human resources and current issues affecting the industry. \nA full-day winter seminar is held each year during which subjects of timely interest are selected to keep members updated on trends in technology and manufacturing management. A conference is now being held every August to work on developing a dialogue between the mills\, machinery vendors\, suppliers and retailers for the purpose of developing new products. This conference has been very successful. \nThe annual meeting is held in June at locations such as Hilton Head\, and Myrtle Beach\, SC. In addition to the informative business sessions\, the annual meeting offers a range of social and recreational events\, including the annual golf and tennis tournaments.\n  \nBenefits\nMembership in STA offers the opportunity to network with peers in all sectors of the textile industry through personal contact and association. \nThe current membership of over 500 people draws from virtually every sector of the industry from yarn spinning to fabric finishing\, including suppliers of fiber\, machinery\, replacement parts\, dyes\, chemicals\, and services. This permits seminar topics to be discussed in terms of the impact on the total manufacturing chain. Networking provides producers of primary products such as fiber and yarn the opportunity to interact directly with knitters\, weavers\, and others for mutual benefit and support in producing quality textiles for domestic and global markets.\n  \nREGISTER TO ATTEND
URL:https://ncmep.org/event/promoting-excellence-in-textile-manufacturing-2025-04-22/
LOCATION:Wilson College of Textiles\, 1020 Main Campus Drive\, Raleigh\, NC\, 27606\, United States
CATEGORIES:Textiles
ATTACH;FMTTYPE=image/jpeg:https://ncmep.org/files/2024/11/Promoting-Excellence-in-Textile-Manufacturing.jpg
END:VEVENT
BEGIN:VEVENT
DTSTART;VALUE=DATE:20250319
DTEND;VALUE=DATE:20250320
DTSTAMP:20260421T042138
CREATED:20241108T213558Z
LAST-MODIFIED:20250228T134319Z
UID:29599-1742342400-1742428799@ncmep.org
SUMMARY:Promoting Excellence in Textile Manufacturing
DESCRIPTION:Who are we?\nThe Southern Textile Association\, Inc.\, established in 1908\, is a nonprofit organization for individuals in the textile and related industries with a common interest in all phases of textile manufacturing. \nThe purpose of the Association as stated in its Charter is to promote good fellowship among its members; to exchange professional knowledge and experience on subjects relating to textile manufacturing; to promote other social\, educational\, personnel relations\, research and other scientific activities for the benefit of the members\, their companies\, and the textile industry.\n  \nREGISTER TO ATTEND\n  \nWhat do we do?\nTo achieve its goals and localize activities as much as possible\, the association consists of two geographic divisions – the Northern Division and the Southern Division. New divisions may be created as needed to serve other geographic areas. \nDivisional meetings are held in the spring and fall\, with programs selected to fill the division needs and interest covering technical areas\, technology updates\, management trends\, human resources and current issues affecting the industry. \nA full-day winter seminar is held each year during which subjects of timely interest are selected to keep members updated on trends in technology and manufacturing management. A conference is now being held every August to work on developing a dialogue between the mills\, machinery vendors\, suppliers and retailers for the purpose of developing new products. This conference has been very successful. \nThe annual meeting is held in June at locations such as Hilton Head\, and Myrtle Beach\, SC. In addition to the informative business sessions\, the annual meeting offers a range of social and recreational events\, including the annual golf and tennis tournaments.\n  \nBenefits\nMembership in STA offers the opportunity to network with peers in all sectors of the textile industry through personal contact and association. \nThe current membership of over 500 people draws from virtually every sector of the industry from yarn spinning to fabric finishing\, including suppliers of fiber\, machinery\, replacement parts\, dyes\, chemicals and services. This permits seminar topics to be discussed in terms of the impact on the total manufacturing chain. Networking provides producers of primary products such as fiber and yarn the opportunity to interact directly with knitters\, weavers and others for mutual benefit and support in producing quality textiles for domestic and global markets.\n  \nREGISTER TO ATTEND
URL:https://ncmep.org/event/promoting-excellence-in-textile-manufacturing-2025-03-19/
LOCATION:Hyatt Regency Greenville\, SC\, 220 North Main Street\, Greenville\, SC\, 29601\, United States
CATEGORIES:Textiles
ATTACH;FMTTYPE=image/jpeg:https://ncmep.org/files/2024/11/Promoting-Excellence-in-Textile-Manufacturing.jpg
END:VEVENT
BEGIN:VEVENT
DTSTART;VALUE=DATE:20250219
DTEND;VALUE=DATE:20250220
DTSTAMP:20260421T042138
CREATED:20241108T213558Z
LAST-MODIFIED:20250204T165827Z
UID:29595-1739923200-1740009599@ncmep.org
SUMMARY:Promoting Excellence in Textile Manufacturing
DESCRIPTION:Who are we? \nThe Southern Textile Association\, Inc.\, established in 1908\, is a nonprofit organization for individuals in the textile and related industries with a common interest in all phases of textile manufacturing. \nThe purpose of the Association as stated in its Charter is to promote good fellowship among its members; to exchange professional knowledge and experience on subjects relating to textile manufacturing; to promote other social\, educational\, personnel relations\, research and other scientific activities for the benefit of the members\, their companies\, and the textile industry.\n  \nREGISTER TO ATTEND\n  \nWhat do we do?\nTo achieve its goals and localize activities as much as possible\, the association consists of two geographic divisions – the Northern Division and the Southern Division. New divisions may be created as needed to serve other geographic areas. \nDivisional meetings are held in the spring and fall\, with programs selected to fill the division needs and interest covering technical areas\, technology updates\, management trends\, human resources and current issues affecting the industry. \nA full-day winter seminar is held each year during which subjects of timely interest are selected to keep members updated on trends in technology and manufacturing management. A conference is now being held every August to work on developing a dialogue between the mills\, machinery vendors\, suppliers and retailers for the purpose of developing new products. This conference has been very successful. \nThe annual meeting is held in June at locations such as Hilton Head\, and Myrtle Beach\, SC. In addition to the informative business sessions\, the annual meeting offers a range of social and recreational events\, including the annual golf and tennis tournaments.\n  \nBenefits\nMembership in STA offers the opportunity to network with peers in all sectors of the textile industry through personal contact and association. \nThe current membership of over 500 people draws from virtually every sector of the industry from yarn spinning to fabric finishing\, including suppliers of fiber\, machinery\, replacement parts\, dyes\, chemicals\, and services. This permits seminar topics to be discussed in terms of the impact on the total manufacturing chain. Networking provides producers of primary products such as fiber and yarn the opportunity to interact directly with knitters\, weavers\, and others for mutual benefit and support in producing quality textiles for domestic and global markets.\n  \nREGISTER TO ATTEND
URL:https://ncmep.org/event/promoting-excellence-in-textile-manufacturing/2025-02-19/
LOCATION:Gaston College\, 7220 Wilkinson Blvd\,\, Belmont\, NC\, 28012\, United States
CATEGORIES:Textiles
ATTACH;FMTTYPE=image/jpeg:https://ncmep.org/files/2024/11/Promoting-Excellence-in-Textile-Manufacturing.jpg
END:VEVENT
BEGIN:VEVENT
DTSTART;VALUE=DATE:20241120
DTEND;VALUE=DATE:20241121
DTSTAMP:20260421T042138
CREATED:20241108T220933Z
LAST-MODIFIED:20241108T221144Z
UID:29607-1732060800-1732147199@ncmep.org
SUMMARY:Promoting Excellence in Textile Manufacturing
DESCRIPTION:Who are we? \nThe Southern Textile Association\, Inc.\, established in 1908\, is a nonprofit organization for individuals in the textile and related industries with a common interest in all phases of textile manufacturing. \nThe purpose of the Association as stated in its Charter is to promote good fellowship among its members; to exchange professional knowledge and experience on subjects relating to textile manufacturing; to promote other social\, educational\, personnel relations\, research and other scientific activities for the benefit of the members\, their companies\, and the textile industry.\n  \nREGISTER TO ATTEND\n  \nWhat do we do?\nTo achieve its goals and localize activities as much as possible\, the association consists of two geographic divisions – the Northern Division and the Southern Division. New divisions may be created as needed to serve other geographic areas. \nDivisional meetings are held in the spring and fall\, with programs selected to fill the division needs and interest covering technical areas\, technology updates\, management trends\, human resources and current issues affecting the industry. \nA full-day winter seminar is held each year during which subjects of timely interest are selected to keep members updated on trends in technology and manufacturing management. A conference is now being held every August to work on developing a dialogue between the mills\, machinery vendors\, suppliers and retailers for the purpose of developing new products. This conference has been very successful. \nThe annual meeting is held in June at locations such as Hilton Head\, and Myrtle Beach\, SC. In addition to the informative business sessions\, the annual meeting offers a range of social and recreational events\, including the annual golf and tennis tournaments.\n  \nBenefits\nMembership in STA offers the opportunity to network with peers in all sectors of the textile industry through personal contact and association. \nThe current membership of over 500 people draws from virtually every sector of the industry from yarn spinning to fabric finishing\, including suppliers of fiber\, machinery\, replacement parts\, dyes\, chemicals\, and services. This permits seminar topics to be discussed in terms of the impact on the total manufacturing chain. Networking provides producers of primary products such as fiber and yarn the opportunity to interact directly with knitters\, weavers\, and others for mutual benefit and support in producing quality textiles for domestic and global markets.\n  \nREGISTER TO ATTEND
URL:https://ncmep.org/event/promoting-excellence-in-textile-manufacturing-2024-11-20/
LOCATION:Hyatt Regency Greenville\, SC\, 220 North Main Street\, Greenville\, SC\, 29601\, United States
CATEGORIES:Textiles
ATTACH;FMTTYPE=image/jpeg:https://ncmep.org/files/2024/11/Promoting-Excellence-in-Textile-Manufacturing.jpg
END:VEVENT
BEGIN:VEVENT
DTSTART;VALUE=DATE:20240728
DTEND;VALUE=DATE:20240731
DTSTAMP:20260421T042138
CREATED:20240105T164806Z
LAST-MODIFIED:20240105T164806Z
UID:24166-1722124800-1722383999@ncmep.org
SUMMARY:STA Annual Meeting
DESCRIPTION:MORE INFORMATION
URL:https://ncmep.org/event/sta-annual-meeting/
LOCATION:Embassy Suites by Hilton Myrtle Beach Oceanfront Resort\, 9800 Queensway Boulevard\, Myrtle Beach\, SC\, 29572\, United States
CATEGORIES:Defense
END:VEVENT
BEGIN:VEVENT
DTSTART;VALUE=DATE:20240423
DTEND;VALUE=DATE:20240424
DTSTAMP:20260421T042138
CREATED:20240105T164320Z
LAST-MODIFIED:20240223T150437Z
UID:24163-1713830400-1713916799@ncmep.org
SUMMARY:STA Northern Division Spring Meeting
DESCRIPTION:MORE INFORMATION
URL:https://ncmep.org/event/sta-northern-division-spring-meeting/
LOCATION:North Carolina State University\, 1210 Varsity Drive\, Raleigh\, NC\, 27695\, United States
CATEGORIES:Defense
ATTACH;FMTTYPE=image/jpeg:https://ncmep.org/files/2024/02/STA-Logo.jpg
END:VEVENT
BEGIN:VEVENT
DTSTART;VALUE=DATE:20240327
DTEND;VALUE=DATE:20240328
DTSTAMP:20260421T042138
CREATED:20240105T162532Z
LAST-MODIFIED:20240223T150325Z
UID:24160-1711497600-1711583999@ncmep.org
SUMMARY:STA Southern Division Spring Meeting
DESCRIPTION:MORE INFORMATION
URL:https://ncmep.org/event/sta-southern-division-spring-meeting/
LOCATION:Greensville\, Greensville\, SC\, 29601\, United States
CATEGORIES:Defense
ATTACH;FMTTYPE=image/jpeg:https://ncmep.org/files/2024/02/STA-Logo.jpg
END:VEVENT
BEGIN:VEVENT
DTSTART;TZID=America/New_York:20240221T083000
DTEND;TZID=America/New_York:20240221T130000
DTSTAMP:20260421T042138
CREATED:20240105T161741Z
LAST-MODIFIED:20240213T165803Z
UID:24156-1708504200-1708520400@ncmep.org
SUMMARY:Southern Textile Association Winter Seminar
DESCRIPTION:The Southern Textile Association is pleased to announce plans for our annual Winter Seminar\, being held Wednesday\, February 21 at the Textile Technology Center at Gaston College\, Kimbrell Campus in Belmont\, NC. The event will start at 8:30 a.m.\, ending after lunch\, which will be served around 12:30 p.m. Coffee and registration begin at 8 a.m.\n  \nREGISTER TO ATTEND\n \nA Meet & Greet will be held on Tuesday evening\, February 20 at The Lodge Tavern & Tap in downtown Belmont from 6-8 p.m. This will include drinks tickets\, hor d’oeuvres – and plenty of networking!\n \nWe hope you will plan to participate – the planning committee has worked tirelessly to create a dynamic program. \n  \n\nTopics and Speakers:\n“How Wearable Tech Will Improve Your Life in 2024”\nMatt Kolmes\nCEO\nSupreme Corp./VOLTech\n  \n\n \n“The Economic Outlook for 2024”\nDr. John E. Connaughton\nProfessor of Financial Economics & Director\nof the UNC Charlotte Economic Forecast\nUniversity of North Carolina at Charlotte\n  \n\n \n“Redefining Clean – Advances in Textile Antimicrobial and Anti-Odor Solutions”\nYihong Li\, Ph.D.\nSenior Technical Manager\, Textiles\nMicroban International\, Ltd.\n  \n\n \n“Polymeric Barrier Chemistries and Their High-Performance Applications in Textiles: A Look to the Past\, Present and Future”\nFrank Adamsky\, Ph.D.\nRegulatory Affairs Manager\nDaikin America\n  \n\n \n“How to Soar Personally and Professionally in 2024”\nGreg Blake\nChief Engagement Officer\nPepU\n \nMORE INFORMATION
URL:https://ncmep.org/event/southern-textile-association-winter-seminar/
LOCATION:Textile Technology Center at Gaston College\, Belmont\, NC\, 28012\, United States
CATEGORIES:Defense
ATTACH;FMTTYPE=image/jpeg:https://ncmep.org/files/2024/02/Southern-Textile-Association-Winter-Seminar.jpg
END:VEVENT
END:VCALENDAR