BEGIN:VCALENDAR
VERSION:2.0
PRODID:-//North Carolina Manufacturing Extension Partnership - ECPv6.15.18//NONSGML v1.0//EN
CALSCALE:GREGORIAN
METHOD:PUBLISH
X-WR-CALNAME:North Carolina Manufacturing Extension Partnership
X-ORIGINAL-URL:https://ncmep.org
X-WR-CALDESC:Events for North Carolina Manufacturing Extension Partnership
REFRESH-INTERVAL;VALUE=DURATION:PT1H
X-Robots-Tag:noindex
X-PUBLISHED-TTL:PT1H
BEGIN:VTIMEZONE
TZID:America/New_York
BEGIN:DAYLIGHT
TZOFFSETFROM:-0500
TZOFFSETTO:-0400
TZNAME:EDT
DTSTART:20230312T070000
END:DAYLIGHT
BEGIN:STANDARD
TZOFFSETFROM:-0400
TZOFFSETTO:-0500
TZNAME:EST
DTSTART:20231105T060000
END:STANDARD
BEGIN:DAYLIGHT
TZOFFSETFROM:-0500
TZOFFSETTO:-0400
TZNAME:EDT
DTSTART:20240310T070000
END:DAYLIGHT
BEGIN:STANDARD
TZOFFSETFROM:-0400
TZOFFSETTO:-0500
TZNAME:EST
DTSTART:20241103T060000
END:STANDARD
BEGIN:DAYLIGHT
TZOFFSETFROM:-0500
TZOFFSETTO:-0400
TZNAME:EDT
DTSTART:20250309T070000
END:DAYLIGHT
BEGIN:STANDARD
TZOFFSETFROM:-0400
TZOFFSETTO:-0500
TZNAME:EST
DTSTART:20251102T060000
END:STANDARD
END:VTIMEZONE
BEGIN:VEVENT
DTSTART;TZID=America/New_York:20240418T180000
DTEND;TZID=America/New_York:20240418T210000
DTSTAMP:20260422T094104
CREATED:20240131T175438Z
LAST-MODIFIED:20240131T175743Z
UID:24540-1713463200-1713474000@ncmep.org
SUMMARY:Women Make Awards
DESCRIPTION:Recognizing Women Leaders in Manufacturing\nREGISTER TO ATTEND\n \nThe Women MAKE Awards (formerly known as the STEP Ahead Awards) recognize women game changers working in the manufacturing industry who exemplify leadership within their companies. This national honor identifies top talent in manufacturing and further encourages award winners to mentor and support the next generation of female talent to pursue modern manufacturing careers. The Women MAKE Awards give women across the country a platform to showcase the incredible opportunities the industry has to offer\, whether they are running the company\, designing the next big product or testing innovations on the shop floor.\n \nIn 2024\, the Manufacturing Institute will recognize 100 women and 30 Emerging Leaders\, a category to honor women under the age of 30 who have achieved unique accomplishments at the start of their careers.\n  \nMORE INFORMATION
URL:https://ncmep.org/event/women-make-awards/
LOCATION:The Anthem\, 901 Wharf Street SW\, Washington\, DC\, 20024\, United States
CATEGORIES:Manufacturing
ATTACH;FMTTYPE=image/jpeg:https://ncmep.org/files/2024/01/Women-Make-Awards.jpg
END:VEVENT
END:VCALENDAR