BEGIN:VCALENDAR
VERSION:2.0
PRODID:-//North Carolina Manufacturing Extension Partnership - ECPv6.15.18//NONSGML v1.0//EN
CALSCALE:GREGORIAN
METHOD:PUBLISH
X-ORIGINAL-URL:https://ncmep.org
X-WR-CALDESC:Events for North Carolina Manufacturing Extension Partnership
REFRESH-INTERVAL;VALUE=DURATION:PT1H
X-Robots-Tag:noindex
X-PUBLISHED-TTL:PT1H
BEGIN:VTIMEZONE
TZID:America/New_York
BEGIN:DAYLIGHT
TZOFFSETFROM:-0500
TZOFFSETTO:-0400
TZNAME:EDT
DTSTART:20230312T070000
END:DAYLIGHT
BEGIN:STANDARD
TZOFFSETFROM:-0400
TZOFFSETTO:-0500
TZNAME:EST
DTSTART:20231105T060000
END:STANDARD
BEGIN:DAYLIGHT
TZOFFSETFROM:-0500
TZOFFSETTO:-0400
TZNAME:EDT
DTSTART:20240310T070000
END:DAYLIGHT
BEGIN:STANDARD
TZOFFSETFROM:-0400
TZOFFSETTO:-0500
TZNAME:EST
DTSTART:20241103T060000
END:STANDARD
BEGIN:DAYLIGHT
TZOFFSETFROM:-0500
TZOFFSETTO:-0400
TZNAME:EDT
DTSTART:20250309T070000
END:DAYLIGHT
BEGIN:STANDARD
TZOFFSETFROM:-0400
TZOFFSETTO:-0500
TZNAME:EST
DTSTART:20251102T060000
END:STANDARD
END:VTIMEZONE
BEGIN:VEVENT
DTSTART;VALUE=DATE:20240923
DTEND;VALUE=DATE:20240927
DTSTAMP:20260420T131920
CREATED:20240823T190642Z
LAST-MODIFIED:20240823T190642Z
UID:28949-1727049600-1727395199@ncmep.org
SUMMARY:Emerging Technologies Conference
DESCRIPTION:Revolutionizing Wearable Technology\nExplore boundless horizons in innovation\n \nEmerging Technologies Conference starts on Sept. 23 at the Anaheim Convention Center and continues through Sept. 26 as a part of Advanced Textiles Expo® 2024. The conference will explore new product developments in wearable technology including electronic textiles\, smart clothing and design. Find out more about how some of these are changing industries in healthcare\, sports and interactive fashion.\n  \nREGISTER TO ATTEND\n  \nVertical Flexible Interconnects for Electronic Textiles\nSept. 23 | 10–10:50 a.m.\n \nFlexible interconnects are essential in electronic textiles\, enabling wearable systems with integrated electronic functions for applications like healthcare monitoring\, sports tracking\, and augmented reality. Vertical flexible interconnects improve compactness\, comfort\, scalability\, and modularity\, enhancing user experience and expanding wearable technology possibilities.\n  \nEmpowering Health and Wellbeing: Transdisciplinary Design Innovations in Smart Clothing and E-Textiles\nSept. 23 | 12:45–1:35 p.m.\n \nBy leveraging transdisciplinary design innovations\, this presentation will showcase how collaborative efforts across engineering\, healthcare\, and design fields can lead to textile based wearable solutions in enhancing health and wellbeing. The presentation will highlight electronic textiles and smart clothing to monitor health\, provide sensory feedback\, and adapt to various environmental and activity-based contexts.\n  \nREGISTER TO ATTEND\n 
URL:https://ncmep.org/event/emerging-technologies-conference/
LOCATION:Anaheim Convention Center\, 800 W. Katella Ave.\, Anaheim\, CA\, 92802\, United States
CATEGORIES:Technology,Textiles
ATTACH;FMTTYPE=image/jpeg:https://ncmep.org/files/2024/08/Emerging-Technologies-Conference.jpg
END:VEVENT
END:VCALENDAR