BEGIN:VCALENDAR
VERSION:2.0
PRODID:-//North Carolina Manufacturing Extension Partnership - ECPv6.15.18//NONSGML v1.0//EN
CALSCALE:GREGORIAN
METHOD:PUBLISH
X-ORIGINAL-URL:https://ncmep.org
X-WR-CALDESC:Events for North Carolina Manufacturing Extension Partnership
REFRESH-INTERVAL;VALUE=DURATION:PT1H
X-Robots-Tag:noindex
X-PUBLISHED-TTL:PT1H
BEGIN:VTIMEZONE
TZID:America/New_York
BEGIN:DAYLIGHT
TZOFFSETFROM:-0500
TZOFFSETTO:-0400
TZNAME:EDT
DTSTART:20240310T070000
END:DAYLIGHT
BEGIN:STANDARD
TZOFFSETFROM:-0400
TZOFFSETTO:-0500
TZNAME:EST
DTSTART:20241103T060000
END:STANDARD
BEGIN:DAYLIGHT
TZOFFSETFROM:-0500
TZOFFSETTO:-0400
TZNAME:EDT
DTSTART:20250309T070000
END:DAYLIGHT
BEGIN:STANDARD
TZOFFSETFROM:-0400
TZOFFSETTO:-0500
TZNAME:EST
DTSTART:20251102T060000
END:STANDARD
BEGIN:DAYLIGHT
TZOFFSETFROM:-0500
TZOFFSETTO:-0400
TZNAME:EDT
DTSTART:20260308T070000
END:DAYLIGHT
BEGIN:STANDARD
TZOFFSETFROM:-0400
TZOFFSETTO:-0500
TZNAME:EST
DTSTART:20261101T060000
END:STANDARD
END:VTIMEZONE
BEGIN:VEVENT
DTSTART;VALUE=DATE:20250505
DTEND;VALUE=DATE:20250507
DTSTAMP:20260422T070850
CREATED:20240708T155351Z
LAST-MODIFIED:20240708T155351Z
UID:27997-1746403200-1746575999@ncmep.org
SUMMARY:Swiss Biotech Day
DESCRIPTION:Experience the Swiss Biotech Day\, a premier biotechnology conference\, and join us in 2025 for an unparalleled gathering of more than 2\,500 professionals from the global life sciences community. Explore the latest advancements in R&D\, manufacturing\, data management\, artificial intelligence\, and innovative financing.\n  \n\nREGISTER TO ATTEND\n\n \nThe North Carolina team plans to organize a trade mission to Ireland the second half of the week. A company will be able to participate in one or both events. More details to come.\n \nIndustries that may be interested in this show include:\n  \n\n\nBiotechnology\nConsulting\nBiotechnology supply chain
URL:https://ncmep.org/event/swiss-biotech-day/
LOCATION:Basel\, Switzerland\, Basel\, Switzerland
CATEGORIES:Life Science
ATTACH;FMTTYPE=image/jpeg:https://ncmep.org/files/2023/10/EDPNC-Logo.jpg
END:VEVENT
END:VCALENDAR