BEGIN:VCALENDAR
VERSION:2.0
PRODID:-//North Carolina Manufacturing Extension Partnership - ECPv6.15.18//NONSGML v1.0//EN
CALSCALE:GREGORIAN
METHOD:PUBLISH
X-ORIGINAL-URL:https://ncmep.org
X-WR-CALDESC:Events for North Carolina Manufacturing Extension Partnership
REFRESH-INTERVAL;VALUE=DURATION:PT1H
X-Robots-Tag:noindex
X-PUBLISHED-TTL:PT1H
BEGIN:VTIMEZONE
TZID:America/New_York
BEGIN:DAYLIGHT
TZOFFSETFROM:-0500
TZOFFSETTO:-0400
TZNAME:EDT
DTSTART:20230312T070000
END:DAYLIGHT
BEGIN:STANDARD
TZOFFSETFROM:-0400
TZOFFSETTO:-0500
TZNAME:EST
DTSTART:20231105T060000
END:STANDARD
BEGIN:DAYLIGHT
TZOFFSETFROM:-0500
TZOFFSETTO:-0400
TZNAME:EDT
DTSTART:20240310T070000
END:DAYLIGHT
BEGIN:STANDARD
TZOFFSETFROM:-0400
TZOFFSETTO:-0500
TZNAME:EST
DTSTART:20241103T060000
END:STANDARD
BEGIN:DAYLIGHT
TZOFFSETFROM:-0500
TZOFFSETTO:-0400
TZNAME:EDT
DTSTART:20250309T070000
END:DAYLIGHT
BEGIN:STANDARD
TZOFFSETFROM:-0400
TZOFFSETTO:-0500
TZNAME:EST
DTSTART:20251102T060000
END:STANDARD
END:VTIMEZONE
BEGIN:VEVENT
DTSTART;VALUE=DATE:20240812
DTEND;VALUE=DATE:20240813
DTSTAMP:20260418T073436
CREATED:20240719T153200Z
LAST-MODIFIED:20240719T153200Z
UID:28276-1723420800-1723507199@ncmep.org
SUMMARY:Cape Fear Workforce Development Board Hosts Employer Roundtable
DESCRIPTION:Based on feedback obtained in the NCWorks Commission’s biannual Employer Needs Survey\, the Cape Fear Workforce Development Board will present a facilitator-led “Employer Forum” in two sessions on Wednesday\, August 12 at Brunswick Community College – Leland Center. Lunch will be provided.\n  \nPlease RSVP to Ginger Brick by 8/5/24\n  \n\nCONTACT GINGER
URL:https://ncmep.org/event/cape-fear-workforce-development-board-hosts-employer-roundtable/
LOCATION:Brunswick Community College\, 50 College Rd NE\, Bolivia\, North Carolina\, 28422\, United States
CATEGORIES:Luncheon
ATTACH;FMTTYPE=image/jpeg:https://ncmep.org/files/2024/07/Cape-Fear-Workforce-Development-Board-Employer-Roundtable.jpg
END:VEVENT
BEGIN:VEVENT
DTSTART;TZID=America/New_York:20240411T100000
DTEND;TZID=America/New_York:20240411T140000
DTSTAMP:20260418T073436
CREATED:20240322T183831Z
LAST-MODIFIED:20240322T183831Z
UID:25850-1712829600-1712844000@ncmep.org
SUMMARY:Brunswick Community College Job Fair
DESCRIPTION:Brunswick Community College Career Fair will be held April 11\, 2024 at the main campus. Display space is free and there are sponsorship opportunities.\n  \n\nMORE INFORMATION\n\n \n  \n\nFor more information\, contact:\nBETTINA DAVIDSON
URL:https://ncmep.org/event/brunswick-community-college-job-fair/
LOCATION:Brunswick Community College\, 50 College Rd NE\, Bolivia\, North Carolina\, 28422\, United States
CATEGORIES:Job Fair
ATTACH;FMTTYPE=image/jpeg:https://ncmep.org/files/2024/03/Brunswick-Community-College-Job-Fair.jpg
END:VEVENT
END:VCALENDAR