BEGIN:VCALENDAR
VERSION:2.0
PRODID:-//North Carolina Manufacturing Extension Partnership - ECPv6.15.18//NONSGML v1.0//EN
CALSCALE:GREGORIAN
METHOD:PUBLISH
X-WR-CALNAME:North Carolina Manufacturing Extension Partnership
X-ORIGINAL-URL:https://ncmep.org
X-WR-CALDESC:Events for North Carolina Manufacturing Extension Partnership
REFRESH-INTERVAL;VALUE=DURATION:PT1H
X-Robots-Tag:noindex
X-PUBLISHED-TTL:PT1H
BEGIN:VTIMEZONE
TZID:America/New_York
BEGIN:DAYLIGHT
TZOFFSETFROM:-0500
TZOFFSETTO:-0400
TZNAME:EDT
DTSTART:20230312T070000
END:DAYLIGHT
BEGIN:STANDARD
TZOFFSETFROM:-0400
TZOFFSETTO:-0500
TZNAME:EST
DTSTART:20231105T060000
END:STANDARD
BEGIN:DAYLIGHT
TZOFFSETFROM:-0500
TZOFFSETTO:-0400
TZNAME:EDT
DTSTART:20240310T070000
END:DAYLIGHT
BEGIN:STANDARD
TZOFFSETFROM:-0400
TZOFFSETTO:-0500
TZNAME:EST
DTSTART:20241103T060000
END:STANDARD
BEGIN:DAYLIGHT
TZOFFSETFROM:-0500
TZOFFSETTO:-0400
TZNAME:EDT
DTSTART:20250309T070000
END:DAYLIGHT
BEGIN:STANDARD
TZOFFSETFROM:-0400
TZOFFSETTO:-0500
TZNAME:EST
DTSTART:20251102T060000
END:STANDARD
END:VTIMEZONE
BEGIN:VEVENT
DTSTART;TZID=America/New_York:20241017T080000
DTEND;TZID=America/New_York:20241017T170000
DTSTAMP:20260418T132928
CREATED:20240821T173705Z
LAST-MODIFIED:20240821T173705Z
UID:28917-1729152000-1729184400@ncmep.org
SUMMARY:SAVE THE DATE: A Discussion on Veteran and Military Suicide Prevention in North Carolina
DESCRIPTION:The U.S. Department of Veterans Affairs\, Defense Health Agency and North Carolina community will highlight what each is doing in the fight against veteran suicide as well as best practices around mental health for North Carolina service members and the veteran community. This event will address the work of the VA’s Veteran Crisis Line and provide for engagement with the VA\, Raleigh/Durham community\, industry\, and military stakeholders. Speakers include: \nDr. Christopher Watson\, Executive Director\, Veterans Crisis Line\, Department of Veterans Affairs (pending agency approval) Additional speakers to be announced. \nMore information to come.
URL:https://ncmep.org/event/save-the-date-a-discussion-on-veteran-and-military-suicide-prevention-in-north-carolina/
LOCATION:Cary\, North Carolina\, More information to follow
ATTACH;FMTTYPE=image/png:https://ncmep.org/files/2024/08/B1A05A2E-42B7-477B-BEEC-DAD6C4A6328E-HKFKaX.tmp_.png
END:VEVENT
END:VCALENDAR