BEGIN:VCALENDAR
VERSION:2.0
PRODID:-//North Carolina Manufacturing Extension Partnership - ECPv6.15.18//NONSGML v1.0//EN
CALSCALE:GREGORIAN
METHOD:PUBLISH
X-WR-CALNAME:North Carolina Manufacturing Extension Partnership
X-ORIGINAL-URL:https://ncmep.org
X-WR-CALDESC:Events for North Carolina Manufacturing Extension Partnership
REFRESH-INTERVAL;VALUE=DURATION:PT1H
X-Robots-Tag:noindex
X-PUBLISHED-TTL:PT1H
BEGIN:VTIMEZONE
TZID:America/New_York
BEGIN:DAYLIGHT
TZOFFSETFROM:-0500
TZOFFSETTO:-0400
TZNAME:EDT
DTSTART:20210314T070000
END:DAYLIGHT
BEGIN:STANDARD
TZOFFSETFROM:-0400
TZOFFSETTO:-0500
TZNAME:EST
DTSTART:20211107T060000
END:STANDARD
BEGIN:DAYLIGHT
TZOFFSETFROM:-0500
TZOFFSETTO:-0400
TZNAME:EDT
DTSTART:20220313T070000
END:DAYLIGHT
BEGIN:STANDARD
TZOFFSETFROM:-0400
TZOFFSETTO:-0500
TZNAME:EST
DTSTART:20221106T060000
END:STANDARD
BEGIN:DAYLIGHT
TZOFFSETFROM:-0500
TZOFFSETTO:-0400
TZNAME:EDT
DTSTART:20230312T070000
END:DAYLIGHT
BEGIN:STANDARD
TZOFFSETFROM:-0400
TZOFFSETTO:-0500
TZNAME:EST
DTSTART:20231105T060000
END:STANDARD
END:VTIMEZONE
BEGIN:VEVENT
DTSTART;TZID=America/New_York:20221007T093000
DTEND;TZID=America/New_York:20221007T120000
DTSTAMP:20260420T131512
CREATED:20220818T171222Z
LAST-MODIFIED:20220818T171222Z
UID:18258-1665135000-1665144000@ncmep.org
SUMMARY:MFG Day Networking Event
DESCRIPTION:NC State University Industry Extension Services (IES) and Cross Company will host an in-person networking event celebrating Manufacturing Day with an informational presentation and a tour. \nSpace is limited and registration is required » \nLynn Crump\, president of Cross Company’s Automation Group\, will share insight on how industrial automation can help you solve your labor shortage and at the same time improve quality and reduce risk. A tour will follow the presentation. Refreshments will be served. This event is open only to manufacturers and network sponsors. Space is limited and registration is required. \nAbout Manufacturing Day: \nManufacturing Day is a national event\, held on the first Friday in October\, celebrating those who produce goods and services in America. The purpose of events held across the nation is to highlight the reality of modern manufacturing careers by encouraging thousands of companies and educational institutions around the nation to open their doors to students\, parents\, teachers and community leaders. The event is also an opportunity for manufacturers to come together to network and address collective challenges to help their businesses and communities thrive. \nFor more information on National Manufacturing Day events\, visit creatorswanted.org. \n#ManufacturingDay  #MFGDay
URL:https://ncmep.org/event/mfg-day-networking-event/
LOCATION:Cross Company\, 300 S. Firestone Street\, Gastonia\, NC\, 28052
CATEGORIES:Manufacturing
END:VEVENT
END:VCALENDAR