BEGIN:VCALENDAR
VERSION:2.0
PRODID:-//North Carolina Manufacturing Extension Partnership - ECPv6.15.18//NONSGML v1.0//EN
CALSCALE:GREGORIAN
METHOD:PUBLISH
X-ORIGINAL-URL:https://ncmep.org
X-WR-CALDESC:Events for North Carolina Manufacturing Extension Partnership
REFRESH-INTERVAL;VALUE=DURATION:PT1H
X-Robots-Tag:noindex
X-PUBLISHED-TTL:PT1H
BEGIN:VTIMEZONE
TZID:America/New_York
BEGIN:DAYLIGHT
TZOFFSETFROM:-0500
TZOFFSETTO:-0400
TZNAME:EDT
DTSTART:20240310T070000
END:DAYLIGHT
BEGIN:STANDARD
TZOFFSETFROM:-0400
TZOFFSETTO:-0500
TZNAME:EST
DTSTART:20241103T060000
END:STANDARD
BEGIN:DAYLIGHT
TZOFFSETFROM:-0500
TZOFFSETTO:-0400
TZNAME:EDT
DTSTART:20250309T070000
END:DAYLIGHT
BEGIN:STANDARD
TZOFFSETFROM:-0400
TZOFFSETTO:-0500
TZNAME:EST
DTSTART:20251102T060000
END:STANDARD
BEGIN:DAYLIGHT
TZOFFSETFROM:-0500
TZOFFSETTO:-0400
TZNAME:EDT
DTSTART:20260308T070000
END:DAYLIGHT
BEGIN:STANDARD
TZOFFSETFROM:-0400
TZOFFSETTO:-0500
TZNAME:EST
DTSTART:20261101T060000
END:STANDARD
END:VTIMEZONE
BEGIN:VEVENT
DTSTART;VALUE=DATE:20250331
DTEND;VALUE=DATE:20250403
DTSTAMP:20260419T045259
CREATED:20250204T135155Z
LAST-MODIFIED:20250204T140020Z
UID:30569-1743379200-1743638399@ncmep.org
SUMMARY:Women In Textiles Summit
DESCRIPTION:The goal of the summit is to strengthen the advancement of women in the textile industry through an interactive forum that provides education\, networking and dialogue about important issues affecting women in business. \nThe 2024 Women in Textiles Summit took place February 12-14 in Phoenix\, AZ. The Summit welcomed just under 100 attendees (48 of which were first-timers!). Emcees Jasmine Cox\, Gaston College and Nichole Holroyd\, Spiritus Systems led the 2-day event\, which consisted of industry\, professional and personal education\, group discussions and lots of fun networking activities!\n  \nREGISTER TO ATTEND
URL:https://ncmep.org/event/women-in-textiles-summit/
LOCATION:Fashion Institute of Technology (FIT)\, 227 W 27th Street\, New York\, NY\, 10001\, United States
CATEGORIES:Textiles
ATTACH;FMTTYPE=image/jpeg:https://ncmep.org/files/2025/02/ATA-Women-in-Textiles-Summit-Banner.jpg
END:VEVENT
END:VCALENDAR