BEGIN:VCALENDAR
VERSION:2.0
PRODID:-//North Carolina Manufacturing Extension Partnership - ECPv6.15.18//NONSGML v1.0//EN
CALSCALE:GREGORIAN
METHOD:PUBLISH
X-WR-CALNAME:North Carolina Manufacturing Extension Partnership
X-ORIGINAL-URL:https://ncmep.org
X-WR-CALDESC:Events for North Carolina Manufacturing Extension Partnership
REFRESH-INTERVAL;VALUE=DURATION:PT1H
X-Robots-Tag:noindex
X-PUBLISHED-TTL:PT1H
BEGIN:VTIMEZONE
TZID:America/New_York
BEGIN:DAYLIGHT
TZOFFSETFROM:-0500
TZOFFSETTO:-0400
TZNAME:EDT
DTSTART:20230312T070000
END:DAYLIGHT
BEGIN:STANDARD
TZOFFSETFROM:-0400
TZOFFSETTO:-0500
TZNAME:EST
DTSTART:20231105T060000
END:STANDARD
BEGIN:DAYLIGHT
TZOFFSETFROM:-0500
TZOFFSETTO:-0400
TZNAME:EDT
DTSTART:20240310T070000
END:DAYLIGHT
BEGIN:STANDARD
TZOFFSETFROM:-0400
TZOFFSETTO:-0500
TZNAME:EST
DTSTART:20241103T060000
END:STANDARD
BEGIN:DAYLIGHT
TZOFFSETFROM:-0500
TZOFFSETTO:-0400
TZNAME:EDT
DTSTART:20250309T070000
END:DAYLIGHT
BEGIN:STANDARD
TZOFFSETFROM:-0400
TZOFFSETTO:-0500
TZNAME:EST
DTSTART:20251102T060000
END:STANDARD
END:VTIMEZONE
BEGIN:VEVENT
DTSTART;TZID=America/New_York:20240731T130000
DTEND;TZID=America/New_York:20240731T150000
DTSTAMP:20260418T092537
CREATED:20240712T181112Z
LAST-MODIFIED:20240712T181112Z
UID:28105-1722430800-1722438000@ncmep.org
SUMMARY:Building the Framework: Business Ownership & Entrepreneurship
DESCRIPTION:Fayetteville entrepreneurs: Learn more about starting a business.\n  \nREGISTER TO ATTEND\n \nJoin Business Counselor Rudy Hernandez to review the SBTDC’s resources for starting a business. During this event\, you will have the opportunity to: \n\n\nLearn about SBTDC and local resources\nAssess yourself as a potential business owner\nUnderstand business concept feasibility\nLearn how to develop a business plan\nExplore business financing options\n\n\nJoin us on July 31 at the FSU Regional Innovation & Entrepreneurship Hub!\n  \nQuestions?\n \nEmail Rudy Hernandez at rhernandez@sbtdc.org.
URL:https://ncmep.org/event/building-the-framework-business-ownership-entrepreneurship/
LOCATION:Fayetteville-Cumberland Regional Entrepreneur & Business HUB\, 1073 Murchison Road\, Fayetteville\, NC\, 28301\, United States
CATEGORIES:Business
ATTACH;FMTTYPE=image/jpeg:https://ncmep.org/files/2024/07/building-the-framework-business-ownership-entrepreneurship.jpg
END:VEVENT
END:VCALENDAR