BEGIN:VCALENDAR
VERSION:2.0
PRODID:-//North Carolina Manufacturing Extension Partnership - ECPv6.15.18//NONSGML v1.0//EN
CALSCALE:GREGORIAN
METHOD:PUBLISH
X-ORIGINAL-URL:https://ncmep.org
X-WR-CALDESC:Events for North Carolina Manufacturing Extension Partnership
REFRESH-INTERVAL;VALUE=DURATION:PT1H
X-Robots-Tag:noindex
X-PUBLISHED-TTL:PT1H
BEGIN:VTIMEZONE
TZID:America/New_York
BEGIN:DAYLIGHT
TZOFFSETFROM:-0500
TZOFFSETTO:-0400
TZNAME:EDT
DTSTART:20210314T070000
END:DAYLIGHT
BEGIN:STANDARD
TZOFFSETFROM:-0400
TZOFFSETTO:-0500
TZNAME:EST
DTSTART:20211107T060000
END:STANDARD
BEGIN:DAYLIGHT
TZOFFSETFROM:-0500
TZOFFSETTO:-0400
TZNAME:EDT
DTSTART:20220313T070000
END:DAYLIGHT
BEGIN:STANDARD
TZOFFSETFROM:-0400
TZOFFSETTO:-0500
TZNAME:EST
DTSTART:20221106T060000
END:STANDARD
BEGIN:DAYLIGHT
TZOFFSETFROM:-0500
TZOFFSETTO:-0400
TZNAME:EDT
DTSTART:20230312T070000
END:DAYLIGHT
BEGIN:STANDARD
TZOFFSETFROM:-0400
TZOFFSETTO:-0500
TZNAME:EST
DTSTART:20231105T060000
END:STANDARD
END:VTIMEZONE
BEGIN:VEVENT
DTSTART;TZID=America/New_York:20221209T110000
DTEND;TZID=America/New_York:20221209T150000
DTSTAMP:20260420T131951
CREATED:20221114T195002Z
LAST-MODIFIED:20221114T200705Z
UID:18800-1670583600-1670598000@ncmep.org
SUMMARY:2022 FALL SENIOR DESIGN EXPO
DESCRIPTION:FRIDAY\, DECEMBER 9\, 2022\n11:00AM – 3:00PM\nHALTON ARENA AND BARNHARDT STUDENT ACTIVITY CENTER\nParking located on UNC Charlotte Campus in the Cone Visitor Deck\nThe Lee College of Engineering’s Senior Design Program brings together students and industrial partners in a collaborative research environment. As they tackle real-world engineering projects\, the engineering students and their industry supporters are afforded unlimited possibilities for learning and achievement.\n\nMore Information:\nhttps://isl.charlotte.edu/senior-design-program/expo-information
URL:https://ncmep.org/event/2022-fall-senior-design-expo/
LOCATION:Lee College of Engineering
CATEGORIES:Partner Events
ATTACH;FMTTYPE=image/png:https://ncmep.org/files/2022/11/2022Fall-Senior-Design-Expo-Hero.png
END:VEVENT
END:VCALENDAR