BEGIN:VCALENDAR
VERSION:2.0
PRODID:-//North Carolina Manufacturing Extension Partnership - ECPv6.15.18//NONSGML v1.0//EN
CALSCALE:GREGORIAN
METHOD:PUBLISH
X-WR-CALNAME:North Carolina Manufacturing Extension Partnership
X-ORIGINAL-URL:https://ncmep.org
X-WR-CALDESC:Events for North Carolina Manufacturing Extension Partnership
REFRESH-INTERVAL;VALUE=DURATION:PT1H
X-Robots-Tag:noindex
X-PUBLISHED-TTL:PT1H
BEGIN:VTIMEZONE
TZID:America/New_York
BEGIN:DAYLIGHT
TZOFFSETFROM:-0500
TZOFFSETTO:-0400
TZNAME:EDT
DTSTART:20230312T070000
END:DAYLIGHT
BEGIN:STANDARD
TZOFFSETFROM:-0400
TZOFFSETTO:-0500
TZNAME:EST
DTSTART:20231105T060000
END:STANDARD
BEGIN:DAYLIGHT
TZOFFSETFROM:-0500
TZOFFSETTO:-0400
TZNAME:EDT
DTSTART:20240310T070000
END:DAYLIGHT
BEGIN:STANDARD
TZOFFSETFROM:-0400
TZOFFSETTO:-0500
TZNAME:EST
DTSTART:20241103T060000
END:STANDARD
BEGIN:DAYLIGHT
TZOFFSETFROM:-0500
TZOFFSETTO:-0400
TZNAME:EDT
DTSTART:20250309T070000
END:DAYLIGHT
BEGIN:STANDARD
TZOFFSETFROM:-0400
TZOFFSETTO:-0500
TZNAME:EST
DTSTART:20251102T060000
END:STANDARD
BEGIN:DAYLIGHT
TZOFFSETFROM:-0500
TZOFFSETTO:-0400
TZNAME:EDT
DTSTART:20260308T070000
END:DAYLIGHT
BEGIN:STANDARD
TZOFFSETFROM:-0400
TZOFFSETTO:-0500
TZNAME:EST
DTSTART:20261101T060000
END:STANDARD
END:VTIMEZONE
BEGIN:VEVENT
DTSTART;TZID=America/New_York:20250528T140000
DTEND;TZID=America/New_York:20250528T153000
DTSTAMP:20260420T131015
CREATED:20250501T140407Z
LAST-MODIFIED:20250501T141544Z
UID:31846-1748440800-1748446200@ncmep.org
SUMMARY:Boosting Manufacturing in NC: SBA Funding & Support Strategies
DESCRIPTION:Are you a U.S.-based manufacturer or small business owner looking to grow your business\, access critical funding and support or secure government contracts? Join us for an exclusive\, in-person training event focused on the SBA’s bold “Made in America” manufacturing initiative – an ambitious effort to strengthen domestic manufacturing and empower American entrepreneurs (recently revealed nationally by Administrator Kelly Loeffler). Our engaging session will provide a high-level overview of the initiative and what it means for business owners who are ready to scale up and compete both locally and globally.\n  \nMORE INFORMATION\n \nIn addition\, attendees will also gain practical\, hands-on insights into SBA programs specifically designed to support the manufacturing sector. We’ll explore financing options\, how to navigate government certifications that open doors to new opportunities\, and the extensive counseling and training resources available to help your business succeed. Whether you’re just starting out or looking to expand your reach\, this training is a must-attend for those committed to building and growing right here in America.\n  \nSpeaker\nMike Arriola\nDistrict Director – NC District Office\nUS Small Business Administration\n  \nCo-Sponsor\nJeff Neuville\nManufactured Solutions Center\nConover NC\n \nIn compliance with the Americans with Disabilities Act (ADA)\, the CVCC Small Business Center will honor requests for reasonable accommodations made by individuals with disabilities. If you have a disability that requires special accommodation\, please contact the Small Business Center 72 hours prior to the event at 828.327.7000 X4117 or accommodations@cvcc.com.\n  \nMORE INFORMATION
URL:https://ncmep.org/event/boosting-manufacturing-in-nc-sba-funding-support-strategies/
LOCATION:Manufacturing Solutions Center (MSC II) at Catawba Valley Community College\, 350 5th Avenue SE\, Conover\, NC\, 28613\, United States
CATEGORIES:Manufacturing
ATTACH;FMTTYPE=image/jpeg:https://ncmep.org/files/2025/05/SBCN-Boosting-Manufacturing-in-NC-SBA-Funding-and-Support-Strategies.jpg
END:VEVENT
BEGIN:VEVENT
DTSTART;VALUE=DATE:20241114
DTEND;VALUE=DATE:20241115
DTSTAMP:20260420T131015
CREATED:20241101T141536Z
LAST-MODIFIED:20241101T141536Z
UID:29506-1731542400-1731628799@ncmep.org
SUMMARY:Shima Seiki Holding Knitting Demonstrations at MSC
DESCRIPTION:Shima Seiki is hosting demonstrations of the APEX4 Knit Design software at the MSC II building on November 14\, with sessions on how the software can create virtual samples of socks and sweaters. Shima Seiki’s Knit Design software can be used to virtually design knit products and patterns while taking into account yarn type\, knit structure\, gauge\, and colorway. The demonstrations will show how the technology accelerates the product development process and supports each stage of the knit supply chain. The event will be in-person at the MSC with a virtual option available.\n  \n\nContact Jackie Almeter at\njackie@shimaseikiusa.com\nto reserve a spot today.
URL:https://ncmep.org/event/shima-seiki-holding-knitting-demonstrations-at-msc/
LOCATION:Manufacturing Solutions Center (MSC II) at Catawba Valley Community College\, 350 5th Avenue SE\, Conover\, NC\, 28613\, United States
CATEGORIES:Technology
ATTACH;FMTTYPE=image/jpeg:https://ncmep.org/files/2024/11/Shima-Seiki-USA.jpg
END:VEVENT
BEGIN:VEVENT
DTSTART;TZID=America/New_York:20241016T113000
DTEND;TZID=America/New_York:20241016T183000
DTSTAMP:20260420T131015
CREATED:20241002T161003Z
LAST-MODIFIED:20241002T161003Z
UID:29293-1729078200-1729103400@ncmep.org
SUMMARY:STA Northern Division Fall Meeting 2024
DESCRIPTION:Join us at the Southern Textile Association’s Northern Division Fall Meeting 2024\, scheduled for Wednesday\, October 16 from 11:30 a.m.-5:05 p.m. at the Manufacturing Solutions Center (MSC II) at Catawba Valley Community College in Conover\, N.C. Lunch will be served from 11:30 a.m.\, and a networking reception will follow from 5:05-6:30 p.m. An optional tour of the MSC I and II facilities will be available at 10:30 a.m.. Registration fees cover also lunch and drinks/snacks at reception.\n  \nREGISTER TO ATTEND
URL:https://ncmep.org/event/sta-northern-division-fall-meeting-2024/
LOCATION:Manufacturing Solutions Center (MSC II) at Catawba Valley Community College\, 350 5th Avenue SE\, Conover\, NC\, 28613\, United States
CATEGORIES:Textiles
ATTACH;FMTTYPE=image/jpeg:https://ncmep.org/files/2024/10/STA-Northern-Division-Fall-Meeting-2024.jpg
END:VEVENT
END:VCALENDAR