BEGIN:VCALENDAR
VERSION:2.0
PRODID:-//North Carolina Manufacturing Extension Partnership - ECPv6.15.18//NONSGML v1.0//EN
CALSCALE:GREGORIAN
METHOD:PUBLISH
X-ORIGINAL-URL:https://ncmep.org
X-WR-CALDESC:Events for North Carolina Manufacturing Extension Partnership
REFRESH-INTERVAL;VALUE=DURATION:PT1H
X-Robots-Tag:noindex
X-PUBLISHED-TTL:PT1H
BEGIN:VTIMEZONE
TZID:America/New_York
BEGIN:DAYLIGHT
TZOFFSETFROM:-0500
TZOFFSETTO:-0400
TZNAME:EDT
DTSTART:20230312T070000
END:DAYLIGHT
BEGIN:STANDARD
TZOFFSETFROM:-0400
TZOFFSETTO:-0500
TZNAME:EST
DTSTART:20231105T060000
END:STANDARD
BEGIN:DAYLIGHT
TZOFFSETFROM:-0500
TZOFFSETTO:-0400
TZNAME:EDT
DTSTART:20240310T070000
END:DAYLIGHT
BEGIN:STANDARD
TZOFFSETFROM:-0400
TZOFFSETTO:-0500
TZNAME:EST
DTSTART:20241103T060000
END:STANDARD
BEGIN:DAYLIGHT
TZOFFSETFROM:-0500
TZOFFSETTO:-0400
TZNAME:EDT
DTSTART:20250309T070000
END:DAYLIGHT
BEGIN:STANDARD
TZOFFSETFROM:-0400
TZOFFSETTO:-0500
TZNAME:EST
DTSTART:20251102T060000
END:STANDARD
END:VTIMEZONE
BEGIN:VEVENT
DTSTART;TZID=America/New_York:20241016T170000
DTEND;TZID=America/New_York:20241016T190000
DTSTAMP:20260422T054939
CREATED:20240924T175438Z
LAST-MODIFIED:20240924T175438Z
UID:29269-1729098000-1729105200@ncmep.org
SUMMARY:“Space Grown” Panel at PSI featuring Sierra Space
DESCRIPTION:As humanity prepares to establish colonies on Mars\, sustaining life far from Earth is essential. Imagine astronauts thriving on fresh crops grown in space\, laying the groundwork for long-term exploration and colonization.\n \nJoin us for an inspiring panel discussion as leaders in space agriculture unveil the cutting-edge technologies and innovative techniques being developed to grow food in the harshest environments. The panel will feature experts in space based agriculture including Sierra Space\, developer of advanced plant growth systems utilized on the International Space Station.\n \nJoin us at the state-of-the-art Plant Science Building at North Carolina State University to see how space farming innovations are shaping sustainable food systems on Earth and beyond!\n  \nREGISTER TO ATTEND
URL:https://ncmep.org/event/space-grown-panel-at-psi-featuring-sierra-space/
LOCATION:Plant Sciences Building\, Oval Drive\, Raleigh\, NC\, 27606\, United States
CATEGORIES:Technology
ATTACH;FMTTYPE=image/jpeg:https://ncmep.org/files/2024/09/Space-Grown-Panel-at-PSI-featuring-Sierra-Space.jpg
END:VEVENT
BEGIN:VEVENT
DTSTART;TZID=America/New_York:20241010T160000
DTEND;TZID=America/New_York:20241010T180000
DTSTAMP:20260422T054939
CREATED:20240911T114728Z
LAST-MODIFIED:20240911T115113Z
UID:29053-1728576000-1728583200@ncmep.org
SUMMARY:Mashup at the NC PSI: Modernizing the AgTech Regulatory Process
DESCRIPTION:Join us for our next “Mashup” at the NC Plant Sciences Initiative!\n \nNC PSI Mashups provide a stage for industry partners of the NC PSI and our NCSU experts to showcase their exciting programs. Come learn and network with the local agtech community!\n \nAt this Mashup\, representatives from industry\, academia\, and government will unite to cover the pressing topic of modernizing the regulatory process for bringing agricultural innovations to market!\n  \nREGISTER TO ATTEND\n \nOur industry partner for this Mashup will be Bayer\, with a presentation by Gaelle Fages from the Seeds and Traits Safety Team.\n \nOur NCSU expert that will present is Dr. Danesha Seth Carley from the Center of Excellence in Regulatory Science Affairs (CERSA).\n \nWe also will host special guest speaker Dr. Amanda Pierce with the US Environmental Protection Agency\n \nWhen: Thursday October 10th. Seminar from 4-5pm followed by networking mixer from 5-6pm.\n \nWhere: Seminar room\, main floor of Plant Sciences Building (840 Oval Drive\, Raleigh). Mixer in Innovation Hub on 3rd floor of PSB.\n \nWho: Open invitation!\n  \nREGISTER TO ATTEND
URL:https://ncmep.org/event/mashup-at-the-nc-psi-modernizing-the-agtech-regulatory-process/
LOCATION:Plant Sciences Building\, Oval Drive\, Raleigh\, NC\, 27606\, United States
CATEGORIES:Technology
ATTACH;FMTTYPE=image/jpeg:https://ncmep.org/files/2024/09/Mashup-at-the-NC-PSI.jpg
END:VEVENT
END:VCALENDAR