BEGIN:VCALENDAR
VERSION:2.0
PRODID:-//North Carolina Manufacturing Extension Partnership - ECPv6.15.18//NONSGML v1.0//EN
CALSCALE:GREGORIAN
METHOD:PUBLISH
X-ORIGINAL-URL:https://ncmep.org
X-WR-CALDESC:Events for North Carolina Manufacturing Extension Partnership
REFRESH-INTERVAL;VALUE=DURATION:PT1H
X-Robots-Tag:noindex
X-PUBLISHED-TTL:PT1H
BEGIN:VTIMEZONE
TZID:America/New_York
BEGIN:DAYLIGHT
TZOFFSETFROM:-0500
TZOFFSETTO:-0400
TZNAME:EDT
DTSTART:20240310T070000
END:DAYLIGHT
BEGIN:STANDARD
TZOFFSETFROM:-0400
TZOFFSETTO:-0500
TZNAME:EST
DTSTART:20241103T060000
END:STANDARD
BEGIN:DAYLIGHT
TZOFFSETFROM:-0500
TZOFFSETTO:-0400
TZNAME:EDT
DTSTART:20250309T070000
END:DAYLIGHT
BEGIN:STANDARD
TZOFFSETFROM:-0400
TZOFFSETTO:-0500
TZNAME:EST
DTSTART:20251102T060000
END:STANDARD
BEGIN:DAYLIGHT
TZOFFSETFROM:-0500
TZOFFSETTO:-0400
TZNAME:EDT
DTSTART:20260308T070000
END:DAYLIGHT
BEGIN:STANDARD
TZOFFSETFROM:-0400
TZOFFSETTO:-0500
TZNAME:EST
DTSTART:20261101T060000
END:STANDARD
END:VTIMEZONE
BEGIN:VEVENT
DTSTART;VALUE=DATE:20250814
DTEND;VALUE=DATE:20250816
DTSTAMP:20260418T060528
CREATED:20250123T142326Z
LAST-MODIFIED:20250123T142415Z
UID:30225-1755129600-1755302399@ncmep.org
SUMMARY:30th Anniversary Ergonomics Symposium
DESCRIPTION:Ergonomics injuries comprise 30.5% of all worker injury and illness cases in the U.S.\nWould you like to build a world-class ergonomics program? A sound program can reduce injuries\, boost productivity and enhance quality in your organization. We have helped a number of companies develop\, implement and grow their ergonomic programs to a world-class level.  \nWe begin by meeting with key company stakeholders to gain a more thorough understanding of existing ergonomics\, health and safety\, engineering\, training\, corrective actions systems\, processes\, and protocols. This knowledge is used to maximize the integration of ergonomics into existing systems\, processes\, and tracking metrics and to identify any improvement opportunities. We can provide a gap analysis\, which will assist us in creating a plan with the client that details the next steps in developing a world-class ergonomics program.  \nDiscover how we can assist you in achieving a more optimal workplace.\n  \nMORE INFORMATION
URL:https://ncmep.org/event/30th-anniversary-ergonomics-symposium/
LOCATION:The Ergonomics Center – NC State University\, 915 Partners Way\, Raleigh\, NC\, 27606\, United States
CATEGORIES:Ergonomics
ATTACH;FMTTYPE=image/jpeg:https://ncmep.org/files/2025/01/30-Anniversary-Ergonomics-Center.jpg
END:VEVENT
END:VCALENDAR