BEGIN:VCALENDAR
VERSION:2.0
PRODID:-//North Carolina Manufacturing Extension Partnership - ECPv6.15.18//NONSGML v1.0//EN
CALSCALE:GREGORIAN
METHOD:PUBLISH
X-ORIGINAL-URL:https://ncmep.org
X-WR-CALDESC:Events for North Carolina Manufacturing Extension Partnership
REFRESH-INTERVAL;VALUE=DURATION:PT1H
X-Robots-Tag:noindex
X-PUBLISHED-TTL:PT1H
BEGIN:VTIMEZONE
TZID:America/New_York
BEGIN:DAYLIGHT
TZOFFSETFROM:-0500
TZOFFSETTO:-0400
TZNAME:EDT
DTSTART:20230312T070000
END:DAYLIGHT
BEGIN:STANDARD
TZOFFSETFROM:-0400
TZOFFSETTO:-0500
TZNAME:EST
DTSTART:20231105T060000
END:STANDARD
BEGIN:DAYLIGHT
TZOFFSETFROM:-0500
TZOFFSETTO:-0400
TZNAME:EDT
DTSTART:20240310T070000
END:DAYLIGHT
BEGIN:STANDARD
TZOFFSETFROM:-0400
TZOFFSETTO:-0500
TZNAME:EST
DTSTART:20241103T060000
END:STANDARD
BEGIN:DAYLIGHT
TZOFFSETFROM:-0500
TZOFFSETTO:-0400
TZNAME:EDT
DTSTART:20250309T070000
END:DAYLIGHT
BEGIN:STANDARD
TZOFFSETFROM:-0400
TZOFFSETTO:-0500
TZNAME:EST
DTSTART:20251102T060000
END:STANDARD
END:VTIMEZONE
BEGIN:VEVENT
DTSTART;TZID=America/New_York:20241212T100000
DTEND;TZID=America/New_York:20241212T160000
DTSTAMP:20260420T130722
CREATED:20241202T183714Z
LAST-MODIFIED:20241202T183714Z
UID:29823-1733997600-1734019200@ncmep.org
SUMMARY:Offshore Wind Ready for North Carolina Companies
DESCRIPTION:What is Offshore Wind Ready\nOffshore Wind Ready is a one-day educational program designed for businesses who want to learn more about specific business opportunities in the growing U.S. offshore wind industry. Learn about project development\, a project’s supply chain component parts\, and how to identify where your business fits in. Offshore Wind Ready helps determine if this growing industry fits your business well.\n  \nREGISTER TO ATTEND\n  \nWho Should Attend\nAny business or individual in North Carolina ready to learn about specific U.S. offshore wind industry business opportunities.\n  \nLearning Objectives:\nSection 1 \n\n\nMatch each US or global region with its timeline and status in the offshore wind market.\n\n\nSection 2 \n\n\nList the phases of development in an offshore wind project. Duplicate from 101.\nIdentify the key components in an offshore wind project.\nDescribe the main function of each key component in an offshore wind project in the journey from wind to producing electricity.\n\n\nSection 3 \n\n\nExplain the structure of the offshore wind supply chain.\nMatch a company providing a specific product or service to the correct supply chain tier 1-6.\n\n\nSection 4 \n\n\nIdentify activities that the supply chain can perform in the siting and permitting phase to support the developer as they build their SAP and COP.\nDescribe the steps to try to become qualified as an offshore wind service or product supplier.\nApply what you’ve learned about involved industries to envision your own experience in the offshore wind industry.\n\n\nSection 5 \n\n\nProvide examples of ways in which individuals in industries adjacent to offshore wind can add value in offshore wind.\nApply what you’ve learned about involved industries to envision your own experience in the offshore wind industry.\n\n\nSection 6 \n\n\nIncrease awareness of training and certification qualifications required by upper-tier suppliers.\nGiven a big picture “org chart” of the industry\, identify potential client types for your company.\nBe prepared to attend Supplier Days hosted by Developers or Wind Farm owners.\nState the advantages Oceantic Network offers to increase your visibility in the offshore wind industry.\n\n\n  \nREGISTER TO ATTEND
URL:https://ncmep.org/event/offshore-wind-ready-for-north-carolina-companies/
LOCATION:Union Square Campus\, Inc.\, 124 E. Gate City Boulevard\, Greensboro\, NC\, 27406\, United States
CATEGORIES:Energy
ATTACH;FMTTYPE=image/jpeg:https://ncmep.org/files/2024/12/Offshore-Wind-Ready-for-North-Carolina-Companies.jpg
END:VEVENT
END:VCALENDAR